Workbook
Name A: 'IMPORTADO DRN'!#REF!

Sheet ERO DISTRIBUCIONES SRL
A10: LISTAS DE PRECIOS
G12: NUEVO INGRESO
G13: BUJIAS DENSO
C14: TIPO DE CAMBIO | F14: 1420

Sheet PEDIDO-LISTAS COMPLETAS 
A5: CODIGO | B5: DESCRIPCION | C5: PRECIO | E5: PEDIDO DE LAS LISTAS
A6: VOLVER INDICE | B6: PRF | H6: INDICE
A7: P-00001-0 | B7: TABLERO BANDERA NARANJA NUMERO BLA | C7: =+VLOOKUP(A7,'LISTA NACIONAL'!A:B,2,0) -> 3154.201 | D7: PESOS | E7: =+VLOOKUP(A7,PRF!B:C,2,0) -> #N/A | H7: PRF
A8: P-00002-0 | B8: TABLERO BANDERA ROJA NUMERO AZUL | C8: =+VLOOKUP(A8,'LISTA NACIONAL'!A:B,2,0) -> 3154.201 | D8: PESOS | E8: =+VLOOKUP(A8,PRF!B:C,2,0) -> #N/A | H8: ACCESORIOS R-MOTOPARTES
A9: P-00003-0 | B9: TABLERO BANDERA BLANCA NUMERO AMAR | C9: =+VLOOKUP(A9,'LISTA NACIONAL'!A:B,2,0) -> 3154.201 | D9: PESOS | E9: =+VLOOKUP(A9,PRF!B:C,2,0) -> #N/A | H9: BUJIAS
A10: P-00004-0 | B10: TABLERO BANDERA BLANCA NUMERO VERD | C10: =+VLOOKUP(A10,'LISTA NACIONAL'!A:B,2,0) -> 870.59 | D10: PESOS | E10: =+VLOOKUP(A10,PRF!B:C,2,0) -> #N/A | H10: CADENAS
A11: P-00005-0 | B11: TABLERO BANDERA BLANCA NUMERO ROJ | C11: =+VLOOKUP(A11,'LISTA NACIONAL'!A:B,2,0) -> 870.59 | D11: PESOS | E11: =+VLOOKUP(A11,PRF!B:C,2,0) -> #N/A | H11: ESCAPES-DEFENSAS
A12: P-00007-0 | B12: BLISTER CINTA DECORATIVA x 4 UNID. | C12: =+VLOOKUP(A12,'LISTA NACIONAL'!A:B,2,0) -> 1852.761 | D12: PESOS | E12: =+VLOOKUP(A12,PRF!B:C,2,0) -> #N/A | H12: CURVA ESCAPE
A13: P-00008-0 | B13: BLISTER LAMINA FLAPPER PRF | C13: =+VLOOKUP(A13,'LISTA NACIONAL'!A:B,2,0) -> 7209.857 | D13: PESOS | E13: =+VLOOKUP(A13,PRF!B:C,2,0) -> 0 | H13: GOMAS-PEDALES-POSAPIES-PORTA CORONAS-MAZAS
A14: P-00009-0 | B14: BLISTER LAMINA FLAPPER PRF CARBONO | C14: =+VLOOKUP(A14,'LISTA NACIONAL'!A:B,2,0) -> 14781.088 | D14: PESOS | E14: =+VLOOKUP(A14,PRF!B:C,2,0) -> 0 | H14: BUJES
A15: P-00010-0 | B15: TABLERO LLAMA ROJA FONDO NEGRO | C15: =+VLOOKUP(A15,'LISTA NACIONAL'!A:B,2,0) -> 60081.408 | D15: PESOS | E15: =+VLOOKUP(A15,PRF!B:C,2,0) -> #N/A | H15: MANGUERAS
A16: P-00011-0 | B16: TABLERO LLAMA AZUL FONDO NEGRO | C16: =+VLOOKUP(A16,'LISTA NACIONAL'!A:B,2,0) -> 870.59 | D16: PESOS | E16: =+VLOOKUP(A16,PRF!B:C,2,0) -> #N/A | H16: CARBURACION
A17: P-00012-0 | B17: TABLERO LLAMA AZUL FONDO BLANCO | C17: =+VLOOKUP(A17,'LISTA NACIONAL'!A:B,2,0) -> 870.59 | D17: PESOS | E17: =+VLOOKUP(A17,PRF!B:C,2,0) -> #N/A | H17: JUNTA ESCAPE
A18: P-00015-0 | B18: TABLERO G.DL LLAMA | C18: =+VLOOKUP(A18,'LISTA NACIONAL'!A:B,2,0) -> 58187.52 | D18: PESOS | E18: =+VLOOKUP(A18,PRF!B:C,2,0) -> #N/A | H18: FICHAS Y CONEXIONES
... A32: P-00032-0 | B32: TACOMETRO FONDO ROJO | C32: =+VLOOKUP(A32,'LISTA NACIONAL'!A:B,2,0) -> 42745.307 | D32: PESOS | E32: =+VLOOKUP(A32,PRF!B:C,2,0) -> #N/A | H32: BOBINAS
A33: P-00033-0 | B33: TACOMETRO FONDO AZUL | C33: =+VLOOKUP(A33,'LISTA NACIONAL'!A:B,2,0) -> 42745.307 | D33: PESOS | E33: =+VLOOKUP(A33,PRF!B:C,2,0) -> #N/A
A34: P-00035-0 | B34: MINI REFLECTORES AZULES | C34: =+VLOOKUP(A34,'LISTA NACIONAL'!A:B,2,0) -> 1728.934 | D34: PESOS | E34: =+VLOOKUP(A34,PRF!B:C,2,0) -> 0
A35: P-00036-0 | B35: MINI REFLECTORES ROJO | C35: =+VLOOKUP(A35,'LISTA NACIONAL'!A:B,2,0) -> 1728.934 | D35: PESOS | E35: =+VLOOKUP(A35,PRF!B:C,2,0) -> 0
A36: P-00037-0 | B36: MINI REFLECTORES BLANCOS | C36: =+VLOOKUP(A36,'LISTA NACIONAL'!A:B,2,0) -> 1728.934 | D36: PESOS | E36: =+VLOOKUP(A36,PRF!B:C,2,0) -> 0
A37: P-00038-0 | B37: MINI REFLECTORES VERDES | C37: =+VLOOKUP(A37,'LISTA NACIONAL'!A:B,2,0) -> 1728.934 | D37: PESOS | E37: =+VLOOKUP(A37,PRF!B:C,2,0) -> 0
A38: P-00040-0 | B38: TAPA VAL. AIRE TUNING (X 7 JGOS) VARIAS | C38: =+VLOOKUP(A38,'LISTA NACIONAL'!A:B,2,0) -> 19669.913 | D38: PESOS | E38: =+VLOOKUP(A38,PRF!B:C,2,0) -> 0
A39: P-00040-1 | B39: TAPA VAL. AIRE TUNING HONDA (X 7 JGOS) | C39: =+VLOOKUP(A39,'LISTA NACIONAL'!A:B,2,0) -> 19669.913 | D39: PESOS | E39: =+VLOOKUP(A39,PRF!B:C,2,0) -> #N/A
A40: P-00040-2 | B40: TAPA VAL. AIRE TUNING YAMAHA (X 7 JGOS) | C40: =+VLOOKUP(A40,'LISTA NACIONAL'!A:B,2,0) -> 19669.913 | D40: PESOS | E40: =+VLOOKUP(A40,PRF!B:C,2,0) -> #N/A
A41: P-00041-0 | B41: JGO. TAPON AGUJERO ESPEJOS CROMADO | C41: =+VLOOKUP(A41,'LISTA NACIONAL'!A:B,2,0) -> 1309.798 | D41: PESOS | E41: =+VLOOKUP(A41,PRF!B:C,2,0) -> #N/A
A42: P-00042-0 | B42: JGO. TAPON AGUJERO ESPEJOS NEGRO | C42: =+VLOOKUP(A42,'LISTA NACIONAL'!A:B,2,0) -> 1309.798 | D42: PESOS | E42: =+VLOOKUP(A42,PRF!B:C,2,0) -> 0
A43: P-00045-0 | B43: VOLTIMETROS Y TEMPERATURA | C43: =+VLOOKUP(A43,'LISTA NACIONAL'!A:B,2,0) -> 42748.577 | D43: PESOS | E43: =+VLOOKUP(A43,PRF!B:C,2,0) -> 0
A44: P-00050-0 | B44: KIT POTENCIACION BIZ / WAVE 1/4 MILLA | C44: =+VLOOKUP(A44,'LISTA NACIONAL'!A:B,2,0) -> 84076.025 | D44: PESOS | E44: =+VLOOKUP(A44,PRF!B:C,2,0) -> 0
... A92: P-00093-0 | B92: PROTECTOR PALANCA DE CAMBIO UNIVERSAL FO | C92: =+VLOOKUP(A92,'LISTA NACIONAL'!A:B,2,0) -> 745.242 | D92: PESOS | E92: =+VLOOKUP(A92,PRF!B:C,2,0) -> 0
A93: P-00095-0 | B93: KIT POTENCIACION YAMAHA CRYPTON EXTREM | C93: =+VLOOKUP(A93,'LISTA NACIONAL'!A:B,2,0) -> 88431.106 | D93: PESOS
A94: P-00096-0 | B94: KIT POTENCIACION YAMAHA YBR 125 EXTREMO | C94: =+VLOOKUP(A94,'LISTA NACIONAL'!A:B,2,0) -> 104505.63 | D94: PESOS
A95: P-00097-0 | B95: KIT POTENCIACION HONDA CG150 EXTREMO | C95: =+VLOOKUP(A95,'LISTA NACIONAL'!A:B,2,0) -> 104505.63 | D95: PESOS | E95: =+VLOOKUP(A95,PRF!B:C,2,0) -> 0
A96: P-00098-0 | B96: KIT POTENCIACION SUZUKI 125 EXTREMO | C96: =+VLOOKUP(A96,'LISTA NACIONAL'!A:B,2,0) -> 114954.54 | D96: PESOS | E96: =+VLOOKUP(A96,PRF!B:C,2,0) -> 0
A97: P-00099-0 | B97: KIT POTENCIACION YAMAHA FZ 16 EXTREMO | C97: =+VLOOKUP(A97,'LISTA NACIONAL'!A:B,2,0) -> 133498.04 | D97: PESOS | E97: =+VLOOKUP(A97,PRF!B:C,2,0) -> 0
A98: P-00110-0 | B98: BIELAS CUCHILLAS CORTA 110 VS. | C98: =+VLOOKUP(A98,'LISTA NACIONAL'!A:B,2,0) -> 39889.943 | D98: PESOS | E98: =+VLOOKUP(A98,PRF!B:C,2,0) -> 0
A99: P-00111-0 | B99: BIELAS CUCHILLAS LARGA 110 VS. | C99: =+VLOOKUP(A99,'LISTA NACIONAL'!A:B,2,0) -> 39889.943 | D99: PESOS | E99: =+VLOOKUP(A99,PRF!B:C,2,0) -> 0
A100: P-00300-0 | B100: CARBURADOR CG 150 c/BOMBA | C100: =+VLOOKUP(A100,'LISTA NACIONAL'!A:B,2,0) -> 4344.006 | D100: PESOS | E100: =+VLOOKUP(A100,PRF!B:C,2,0) -> #N/A
A101: P-00301-0 | B101: CARBURADOR CG.150 S/BOMBA PIQUE | C101: =+VLOOKUP(A101,'LISTA NACIONAL'!A:B,2,0) -> 4344.006 | D101: PESOS | E101: =+VLOOKUP(A101,PRF!B:C,2,0) -> #N/A
A102: P-0088-0 | B102: FAROL TRASERO PRF MONSTER UNIVERSAL | C102: =+VLOOKUP(A102,'LISTA NACIONAL'!A:B,2,0) -> 18382.211 | D102: PESOS | E102: =+VLOOKUP(A102,PRF!B:C,2,0) -> #N/A
A103: P-01086-0 | B103: PORTA PATENTE UNIVERSAL P/ENDURO | C103: =+VLOOKUP(A103,'LISTA NACIONAL'!A:B,2,0) -> 8084.736 | D103: PESOS | E103: =+VLOOKUP(A103,PRF!B:C,2,0) -> #N/A
A104: P-01086-1 | B104: PORTA PATENTE P/ENDURO REBATIBLE | C104: =+VLOOKUP(A104,'LISTA NACIONAL'!A:B,2,0) -> 18121.44 | D104: PESOS | E104: =+VLOOKUP(A104,PRF!B:C,2,0) -> #N/A
...

Sheet PRF
B5: CODIGO | C5: PEDIDO | D5: DESCRIPCION | E5: $ S/ IVA | F5: $ C/ IVA | G5: PEDIDO
A6: ADAPTADOR CARBURADOR 110 A 125 CC | B6: P-00075-0 | D6: ADAPTADOR CARBURADOR 110 A 125 cc. | E6: =+VLOOKUP(B6,'LISTA NACIONAL'!A:B,2,0) -> 19512.739 | F6: =+E6*1.21 -> 23610.414
B7: P-00075-1 | D7: ADAPTADOR P/ROTAR CODO ADMISION 110 A 125 cc. | E7: =+VLOOKUP(B7,'LISTA NACIONAL'!A:B,2,0) -> 10733.806 | F7: =+E7*1.21 -> 12987.905
B8: P-00075-E | D8: ADAPTADOR CARBURADOR 110 A 125 ECONOMICO | E8: =+VLOOKUP(B8,'LISTA NACIONAL'!A:B,2,0) -> 8643.713 | F8: =+E8*1.21 -> 10458.893
B9: P-00078-E | D9: ADAPTADOR CARBURADOR CORTINA PLANA 110 A | E9: =+VLOOKUP(B9,'LISTA NACIONAL'!A:B,2,0) -> 9325.527 | F9: =+E9*1.21 -> 11283.888
A10: BIELAS COMPETICION | B10: P-00110-0 | D10: BIELAS CUCHILLAS CORTA 110 vs | E10: =+VLOOKUP(B10,'LISTA NACIONAL'!A:B,2,0) -> 39889.943 | F10: =+E10*1.21 -> 48266.831
B11: P-00111-0 | D11: BIELAS CUCHILLAS LARGA 110 vs | E11: =+VLOOKUP(B11,'LISTA NACIONAL'!A:B,2,0) -> 39889.943 | F11: =+E11*1.21 -> 48266.831
A12: BOBINA COMPETICION | B12: P-00065-0 | D12: BOBINA COMPETICION UNIVERSAL 4 T | E12: =+VLOOKUP(B12,'LISTA NACIONAL'!A:B,2,0) -> 42486.62 | F12: =+E12*1.21 -> 51408.81
B13: P-00069-0 | D13: CABLE BUJIA COMPETICION UNIV. C/CAPUCHON DE BAQUELITA | E13: =+VLOOKUP(B13,'LISTA NACIONAL'!A:B,2,0) -> 6892.819 | F13: =+E13*1.21 -> 8340.311
A14: CARGADOR DE BATERIA INTELIGENTE | B14: P-00060-0 | D14: CARGADOR DE BATERIA INTELIGENTE | E14: =+VLOOKUP(B14,'LISTA NACIONAL'!A:B,2,0) -> 58050.309 | F14: =+E14*1.21 -> 70240.874
A15: EQUIPO LANZA LLAMAS | B15: P-00068-0 | D15: EQUIPO LANZA LLAMAS | E15: =+VLOOKUP(B15,'LISTA NACIONAL'!A:B,2,0) -> 21120.518 | F15: =+E15*1.21 -> 25555.827
A16: KIT COMPETICION | B16: P-00050-0 | D16: KIT DE POTENCIACION BIZ / WAVE 1/4 MILLA CORTO | E16: =+VLOOKUP(B16,'LISTA NACIONAL'!A:B,2,0) -> 84076.025 | F16: =+E16*1.21 -> 101731.99
B17: P-00050-1 | D17: KIT DE POTENCIACION BIZ / WAVE TOP SPEED CORTO | E17: =+VLOOKUP(B17,'LISTA NACIONAL'!A:B,2,0) -> 84076.025 | F17: =+E17*1.21 -> 101731.99
B18: P-00051-0 | D18: KIT DE POTENCIACION BIZ / WAVE TOP SPEED LARGO | E18: =+VLOOKUP(B18,'LISTA NACIONAL'!A:B,2,0) -> 84076.025 | F18: =+E18*1.21 -> 101731.99
B19: P-00052-0 | D19: KIT DE POTENCIACION SMASH CORTO 1/4 MILLA | E19: =+VLOOKUP(B19,'LISTA NACIONAL'!A:B,2,0) -> 73725.337 | F19: =+E19*1.21 -> 89207.658
B20: P-00052-1 | D20: KIT DE POTENCIACION SMASH CORTO TOP SPEED | E20: =+VLOOKUP(B20,'LISTA NACIONAL'!A:B,2,0) -> 73725.337 | F20: =+E20*1.21 -> 89207.658
B21: P-00053-0 | D21: KIT DE POTENCIACION SMASH LARGO 1/4 MILLA | E21: =+VLOOKUP(B21,'LISTA NACIONAL'!A:B,2,0) -> 73725.337 | F21: =+E21*1.21 -> 89207.658
B22: P-00053-1 | D22: KIT DE POTENCIACION SMASH LARGO TOP SPEED | E22: =+VLOOKUP(B22,'LISTA NACIONAL'!A:B,2,0) -> 73725.337 | F22: =+E22*1.21 -> 89207.658
A23: KIT POTENCIACION EXTREMO | B23: P-00055-0 | D23: KIT DE POTENCIACION BIZ / WAVE EXTREMO | E23: =+VLOOKUP(B23,'LISTA NACIONAL'!A:B,2,0) -> 72841.224 | F23: =+E23*1.21 -> 88137.881
B24: P-00056-0 | D24: KIT DE POTENCIACION SMASH CORTO EXTREMO | E24: =+VLOOKUP(B24,'LISTA NACIONAL'!A:B,2,0) -> 81092.96 | F24: =+E24*1.21 -> 98122.482
B25: P-00057-0 | D25: KIT DE POTENCIACION SMASH LARGO EXTREMO | E25: =+VLOOKUP(B25,'LISTA NACIONAL'!A:B,2,0) -> 84079.301 | F25: =+E25*1.21 -> 101735.95
B26: P-00095-0 | D26: KIT DE POTENCIACION YAMAHA CRYPTON EXTREMO | E26: =+VLOOKUP(B26,'LISTA NACIONAL'!A:B,2,0) -> 88431.106 | F26: =+E26*1.21 -> 107001.64
B27: P-00096-0 | D27: KIT DE POTENCIACION YAMAHA YBR 125 EXTREMO | E27: =+VLOOKUP(B27,'LISTA NACIONAL'!A:B,2,0) -> 104505.63 | F27: =+E27*1.21 -> 126451.81
B28: P-00058-0 | D28: KIT DE POTENCIACION HONDA CG 125 TITAN EXTREMO | E28: =+VLOOKUP(B28,'LISTA NACIONAL'!A:B,2,0) -> 109047.35 | F28: =+E28*1.21 -> 131947.3
B29: P-00059-0 | D29: KIT DE POTENCIACION HONDA CG 125 TODAY EXTREMO | E29: =+VLOOKUP(B29,'LISTA NACIONAL'!A:B,2,0) -> 88444.206 | F29: =+E29*1.21 -> 107017.49
B30: P-00097-0 | D30: KIT DE POTENCIACION HONDA CG 150 EXTREMO | E30: =+VLOOKUP(B30,'LISTA NACIONAL'!A:B,2,0) -> 104505.63 | F30: =+E30*1.21 -> 126451.81
B31: P-00098-0 | D31: KIT DE POTENCIACION SUZUKI 125 EXTREMO | E31: =+VLOOKUP(B31,'LISTA NACIONAL'!A:B,2,0) -> 114954.54 | F31: =+E31*1.21 -> 139095
B32: P-00099-0 | D32: KIT DE POTENCIACION YAMAHA FZ 16 EXTREMO | E32: =+VLOOKUP(B32,'LISTA NACIONAL'!A:B,2,0) -> 133498.04 | F32: =+E32*1.21 -> 161532.62
A33: LAMINA PARA FLAPPERS | B33: P-00008-0 | D33: LAMINA FLAPPERS Hasta 100cc.( Esp. 0,35 / Tension: 30g/cm2) x 3 unid. | E33: =+VLOOKUP(B33,'LISTA NACIONAL'!A:B,2,0) -> 7209.857 | F33: =+E33*1.21 -> 8723.927
B34: P-00009-0 | D34: LAMINA FLAPPERS CARBONO 100cc. ( Esp. 0,33 / Tension: 35g/cm2) | E34: =+VLOOKUP(B34,'LISTA NACIONAL'!A:B,2,0) -> 14781.088 | F34: =+E34*1.21 -> 17885.116
A35: LUCES VARIAS | B35: P-00025-0 | D35: BOTONES LUMINOSOS AUTOADHESIVO AZULES | E35: =+VLOOKUP(B35,'LISTA NACIONAL'!A:B,2,0) -> 1116.602 | F35: =+E35*1.21 -> 1351.0884
B36: P-00026-0 | D36: BOTONES LUMINOSOS AUTOADHESIVO ROJOS | E36: =+VLOOKUP(B36,'LISTA NACIONAL'!A:B,2,0) -> 1116.602 | F36: =+E36*1.21 -> 1351.0884
B37: P-00027-0 | D37: BOTONES LUMINOSOS AUTOADHESIVO BLANCOS | E37: =+VLOOKUP(B37,'LISTA NACIONAL'!A:B,2,0) -> 1116.602 | F37: =+E37*1.21 -> 1351.0884
B38: P-00028-0 | D38: BOTONES LUMINOSOS AUTOADHESIVO VERDES | E38: =+VLOOKUP(B38,'LISTA NACIONAL'!A:B,2,0) -> 1116.602 | F38: =+E38*1.21 -> 1351.0884
B39: P-00029-0 | D39: BOTONES LUMINOSOS AUTOADHESIVO AMARILLOS | E39: =+VLOOKUP(B39,'LISTA NACIONAL'!A:B,2,0) -> 1116.602 | F39: =+E39*1.21 -> 1351.0884
B40: P-00035-0 | D40: MINI REFLECTORES AZULES | E40: =+VLOOKUP(B40,'LISTA NACIONAL'!A:B,2,0) -> 1728.934 | F40: =+E40*1.21 -> 2092.0101
B41: P-00036-0 | D41: MINI REFLECTORES ROJOS | E41: =+VLOOKUP(B41,'LISTA NACIONAL'!A:B,2,0) -> 1728.934 | F41: =+E41*1.21 -> 2092.0101
B42: P-00037-0 | D42: MINI REFLECTORES BLANCOS | E42: =+VLOOKUP(B42,'LISTA NACIONAL'!A:B,2,0) -> 1728.934 | F42: =+E42*1.21 -> 2092.0101
B43: P-00038-0 | D43: MINI REFLECTORES VERDES | E43: =+VLOOKUP(B43,'LISTA NACIONAL'!A:B,2,0) -> 1728.934 | F43: =+E43*1.21 -> 2092.0101
B45: P-00020-0 | D45: TUBO DE NEON AZUL | E45: =+VLOOKUP(B45,'LISTA NACIONAL'!A:B,2,0) -> 2279.051 | F45: =+E45*1.21 -> 2757.6517
...

Sheet R- MOTOPARTES
A7: CÓDIGO | B7: CODIGO | C7: PEDIDO | D7: DESCRIPCIÓN | E7: PRECIO SIN IVA | F7: PRECIO CON IVA
A8: LUZ PATENTE | B8: P-01084-0 | D8: LUZ DE PATENTE UNIVERSAL | E8: =+VLOOKUP(B8,'LISTA NACIONAL'!A:B,2,0) -> 6345 | F8: =+E8*1.21 -> 7677.45
A9: MODULO BALIZA | B9: P-01085-0 | D9: MODULO DE BALIZAS UNIVERSAL | E9: =+VLOOKUP(B9,'LISTA NACIONAL'!A:B,2,0) -> 20012.4 | F9: =+E9*1.21 -> 24215.004
A11: SOPORTE PORTA PATENTE | B11: P-01086-0 | D11: PORTA PATENTE UNIVERSAL PARA ENDURO | E11: =+VLOOKUP(B11,'LISTA NACIONAL'!A:B,2,0) -> 8084.736 | F11: =+E11*1.21 -> 9782.5306
B12: P-01086-1 | D12: PORTA PATENTE P/ENDURO REVATIBLE | E12: =+VLOOKUP(B12,'LISTA NACIONAL'!A:B,2,0) -> 18121.44 | F12: =+E12*1.21 -> 21926.942
B13: P-01086-2 | D13: PORTA PATENTE REVATIBLE CAFÉ RACE | E13: =+VLOOKUP(B13,'LISTA NACIONAL'!A:B,2,0) -> 22036.2 | F13: =+E13*1.21 -> 26663.802
A15: BOCA ADMISION ALUMINIO 125/150 | B15: P-00076-28 | D15: BOCA ADMISION ALUMINIO 125 / 150 cc º28 | E15: =+VLOOKUP(B15,'LISTA NACIONAL'!A:B,2,0) -> 16625.374 | F15: =+E15*1.21 -> 20116.703
B16: P-00076-30 | D16: BOCA ADMISION ALUMINIO 125 / 150 cc º30 | E16: =+VLOOKUP(B16,'LISTA NACIONAL'!A:B,2,0) -> 16625.374 | F16: =+E16*1.21 -> 20116.703
B17: P-00076-32 | D17: BOCA ADMISION ALUMINIO 125 / 150 cc º32 | E17: =+VLOOKUP(B17,'LISTA NACIONAL'!A:B,2,0) -> 16625.374 | F17: =+E17*1.21 -> 20116.703
B18: P-00076-34 | D18: BOCA ADMISION ALUMINIO 125 / 150 cc º34 | E18: =+VLOOKUP(B18,'LISTA NACIONAL'!A:B,2,0) -> 16625.374 | F18: =+E18*1.21 -> 20116.703
A20: BOCA ADMISION ALUMINIO TORNADO | B20: P-00077-32 | D20: BOCA ADMISION ALUMINIO 125 / 150 cc º30 | E20: =+VLOOKUP(B20,'LISTA NACIONAL'!A:B,2,0) -> 18774.569 | F20: =+E20*1.21 -> 22717.228
B21: P-00077-34 | D21: BOCA ADMISION ALUMINIO 125 / 150 cc º32 | E21: =+VLOOKUP(B21,'LISTA NACIONAL'!A:B,2,0) -> 18774.569 | F21: =+E21*1.21 -> 22717.228
B22: P-00077-36 | D22: BOCA ADMISION ALUMINIO 125 / 150 cc º34 | E22: =+VLOOKUP(B22,'LISTA NACIONAL'!A:B,2,0) -> 18774.569 | F22: =+E22*1.21 -> 22717.228
B23: P-00077-38 | D23: BOCA ADMISION ALUMINIO 125 / 150 cc º36 | E23: =+VLOOKUP(B23,'LISTA NACIONAL'!A:B,2,0) -> 18774.569 | F23: =+E23*1.21 -> 22717.228
A25: BOCA ADMISION ALUMINIO TORNADO | B25: P-00079-32 | D25: BOCA ADMISION ALUMINIO TORNADO/CBX TIPO ORIGINAL º32 | E25: =+VLOOKUP(B25,'LISTA NACIONAL'!A:B,2,0) -> 18774.569 | F25: =+E25*1.21 -> 22717.228
B26: P-00079-34 | D26: BOCA ADMISION ALUMINIO TORNADO / CBX TIPO ORIGINAL º34 | E26: =+VLOOKUP(B26,'LISTA NACIONAL'!A:B,2,0) -> 18774.569 | F26: =+E26*1.21 -> 22717.228
B27: P-00079-36 | D27: BOCA ADMISION ALUMINIO TORNADO/CBX TIPO ORIGINAL º36 | E27: =+VLOOKUP(B27,'LISTA NACIONAL'!A:B,2,0) -> 18774.569 | F27: =+E27*1.21 -> 22717.228
B28: P-00079-38 | D28: BOCA ADMISION ALUMINIO TORNADO/CBX TIPO ORIGINAL 38 | E28: =+VLOOKUP(B28,'LISTA NACIONAL'!A:B,2,0) -> 18774.569 | F28: =+E28*1.21 -> 22717.228
B29: P-00079-40 | D29: BOCA ADMISION ALUMINIO TORNADO/CBX TIPO ORIGINAL 40 | E29: =+VLOOKUP(B29,'LISTA NACIONAL'!A:B,2,0) -> 18774.569 | F29: =+E29*1.21 -> 22717.228
A31: CUBRE CARTER | B31: P-00010-0 | D31: CUBRE CARTER HONDA XR 250 TORNADO NEGRO | E31: =+VLOOKUP(B31,'LISTA NACIONAL'!A:B,2,0) -> 60081.408 | F31: =+E31*1.21 -> 72698.504
B32: P-00010-1 | D32: CUBRE CARTER HONDA XR 250 TORNADO ROJO | E32: =+VLOOKUP(B32,'LISTA NACIONAL'!A:B,2,0) -> 60081.408 | F32: =+E32*1.21 -> 72698.504
B33: P-00013-0 | D33: CUBRE CARTER YAMAHA XTZ 125 NEGRO | E33: =+VLOOKUP(B33,'LISTA NACIONAL'!A:B,2,0) -> 33645.312 | F33: =+E33*1.21 -> 40710.828
B34: P-00015-0 | D34: CUBRE CARTER HONDA XR 125 / 150 NEGRO | E34: =+VLOOKUP(B34,'LISTA NACIONAL'!A:B,2,0) -> 58187.52 | F34: =+E34*1.21 -> 70406.899
B35: P-00015-1 | D35: CUBRE CARTER HONDA XR 125 / 150 ROJO | E35: =+VLOOKUP(B35,'LISTA NACIONAL'!A:B,2,0) -> 58187.52 | F35: =+E35*1.21 -> 70406.899
A38: CUBRE PIÑON | B38: P-01080-0 | D38: CUBRE PIÑON HONDA XR 250 TORNADO NEGRO | E38: =+VLOOKUP(B38,'LISTA NACIONAL'!A:B,2,0) -> 7264.152 | F38: =+E38*1.21 -> 8789.6239
B39: P-01080-1 | D39: CUBRE PIÑON HONDA XR 250 TORNADO ROJO | E39: =+VLOOKUP(B39,'LISTA NACIONAL'!A:B,2,0) -> 7264.152 | F39: =+E39*1.21 -> 8789.6239
B40: P-01081-0 | D40: CUBRE PIÑON MOTOMEL SKUA 150 / 250 NEGRO | E40: =+VLOOKUP(B40,'LISTA NACIONAL'!A:B,2,0) -> 7443.72 | F40: =+E40*1.21 -> 9006.9012
B41: P-01081-1 | D41: CUBRE PIÑON MOTOMEL SKUA 150 / 250 ROJO | E41: =+VLOOKUP(B41,'LISTA NACIONAL'!A:B,2,0) -> 7443.72 | F41: =+E41*1.21 -> 9006.9012
B42: P-01082-0 | D42: CUBRE PIÑON HONDA XR 125 / 150 / CG NEGRO | E42: =+VLOOKUP(B42,'LISTA NACIONAL'!A:B,2,0) -> 6932.16 | F42: =+E42*1.21 -> 8387.9136
B43: P-01082-1 | D43: CUBRE PIÑON HONDA XR 125 / 150 / CG ROJO | E43: =+VLOOKUP(B43,'LISTA NACIONAL'!A:B,2,0) -> 6932.16 | F43: =+E43*1.21 -> 8387.9136
B44: P-01083-0 | D44: CUBRE PIÑON YAMAHA XTZ 125 NEGRO | E44: =+VLOOKUP(B44,'LISTA NACIONAL'!A:B,2,0) -> 6795.072 | F44: =+E44*1.21 -> 8222.0371
B45: P-01083-1 | D45: CUBRE PIÑON YAMAHA XTZ 125 ROJO | E45: =+VLOOKUP(B45,'LISTA NACIONAL'!A:B,2,0) -> 6795.072 | F45: =+E45*1.21 -> 8222.0371

Sheet BUJES
A2: CODIGO | B2: PEDIDO | C2: DESCRIPCION | D2: $ S/ IVA | E2: $ C/ IVA
C3: BUJES CORONA
A4: K-S0890-0 | C4: CG 125 / RX 150 / XLR 125 / XR 200 BRASIL -- (JGO X 4) | D4: =+VLOOKUP(A4,'LISTA NACIONAL'!A:B,2,0) -> 2944.35 | E4: =+D4*1.21 -> 3562.6635
A5: K-S0890-1 | C5: CG 125 / RX 150 / XLR 125 / XR 200 BRA. (JGO X 4) GRILON | D5: =+VLOOKUP(A5,'LISTA NACIONAL'!A:B,2,0) -> 371.321 | E5: =+D5*1.21 -> 449.29841
A6: K-S0918-0 | C6: CB 250 / GMX 150 - 200 - APPIA BREZZA-(JGO X 4) | D6: =+VLOOKUP(A6,'LISTA NACIONAL'!A:B,2,0) -> 3979.8 | E6: =+D6*1.21 -> 4815.558
C7: BUJES HORQUILLON
A8: K-S2494-0 | C8: STORM/ RX 150 / 200 (JGO X 2) | D8: =+VLOOKUP(A8,'LISTA NACIONAL'!A:B,2,0) -> 2945.7 | E8: =+D8*1.21 -> 3564.297
A9: K-S2495-0 | C9: CRYPTON (JGO X 2) | D9: =+VLOOKUP(A9,'LISTA NACIONAL'!A:B,2,0) -> 2945.7 | E9: =+D9*1.21 -> 3564.297
A10: K-S2496-0 | C10: JGO. BUJE HORQUILLON YBR 125 | D10: =+VLOOKUP(A10,'LISTA NACIONAL'!A:B,2,0) -> 3547.8 | E10: =+D10*1.21 -> 4292.838
A11: K-S3538-0 | C11: SKUA 150 - 200 - 250 / DAKAR 200 (JGO X 2) | D11: =+VLOOKUP(A11,'LISTA NACIONAL'!A:B,2,0) -> 3186 | E11: =+D11*1.21 -> 3855.06
A12: K-S3612-0 | C12: FZ 16 (JGO X 2) | D12: =+VLOOKUP(A12,'LISTA NACIONAL'!A:B,2,0) -> 3369.6 | E12: =+D12*1.21 -> 4077.216
A13: K-S1819-0 | C13: BIT - WAVE - KONISA - BIZ - BLITZ (JGO X 2) | D13: =+VLOOKUP(A13,'LISTA NACIONAL'!A:B,2,0) -> 1536.2595 | E13: =+D13*1.21 -> 1858.874
A14: K-S3159-0 | C14: SMASH - MAVERICK - VECTRA - TRIP (JGO X 2) | D14: =+VLOOKUP(A14,'LISTA NACIONAL'!A:B,2,0) -> 2792.61 | E14: =+D14*1.21 -> 3379.0581
A15: K-S2100-0 | C15: BLITZ 125 / BIZ 125 / 110 TUNING (JGO X 2) | D15: =+VLOOKUP(A15,'LISTA NACIONAL'!A:B,2,0) -> 1595.3544 | E15: =+D15*1.21 -> 1930.3788
A16: K-S3537-0 | C16: BUJE HORQUILLON MOTOMEL SKUA 150 (JGO X 2) | D16: =+VLOOKUP(A16,'LISTA NACIONAL'!A:B,2,0) -> 3585.6 | E16: =+D16*1.21 -> 4338.576
A17: K-S3538-0 | C17: BUJE HORQUILLON MOTOMEL SERIE 2 (JGO X 2) | D17: =+VLOOKUP(A17,'LISTA NACIONAL'!A:B,2,0) -> 3186 | E17: =+D17*1.21 -> 3855.06
C18: BUJES MONO SHOCK
A19: K-S0200-0 | C19: SKUA 150 / TODAS CHINAS TIPO ENDURO(JGO X 2) | D19: =+VLOOKUP(A19,'LISTA NACIONAL'!A:B,2,0) -> 2205.9 | E19: =+D19*1.21 -> 2669.139
A20: K-S0201-0 | C20: BROSS 125 / XR 125 NVA(JGO X 2) | D20: =+VLOOKUP(A20,'LISTA NACIONAL'!A:B,2,0) -> 1572.09 | E20: =+D20*1.21 -> 1902.2289
C22: BUJES PATADA ARRANQUE
A23: K-S2456-1 | C23: YAMAHA YBR 125 x UNIDAD | D23: =+VLOOKUP(A23,'PEDIDO-LISTAS COMPLETAS '!A:C,3,0) -> 121.226 | E23: =+D23*1.21 -> 146.68346

Sheet CADENAS
A4: CADENA DE DISTRIBUCION | H4: PEDIDO | J4: CAD. DE DISTRIBUCION
A5: CODIGO | B5: PEDIDO | C5: MODELO | D5: MEDIDAS | E5: LINKS | F5: PRECIO S/ IVA | G5: PRECIO EN PESOS
A6: T-K0101-0 | C6: CADENA 25H | E6: 82 | F6: =+VLOOKUP(A6,'LISTA IMPORTADO'!A:B,2,0) -> 3.444 | G6: =+(F6*1.21)*$J$15 -> 0 | J6: CAD. DE TRANSMISION
A7: T-K0102-0 | C7: CADENA 25H | E7: 84 | F7: =+VLOOKUP(A7,'LISTA IMPORTADO'!A:B,2,0) -> 3.816 | G7: =+(F7*1.21)*$J$15 -> 0
A8: T-K0104-0 | C8: CADENA 25H | E8: 98 | F8: =+VLOOKUP(A8,'LISTA IMPORTADO'!A:B,2,0) -> 4.45 | G8: =+(F8*1.21)*$J$15 -> 0
A9: T-K0105-0 | C9: CADENA 25H | E9: 100 | F9: =+VLOOKUP(A9,'LISTA IMPORTADO'!A:B,2,0) -> 4.549 | G9: =+(F9*1.21)*$J$15 -> 0 | J9: CAD. DE TRANSMISION
A10: T-K0106-0 | C10: CADENA 25H | E10: 102 | F10: =+VLOOKUP(A10,'LISTA IMPORTADO'!A:B,2,0) -> 4.637 | G10: =+(F10*1.21)*$J$15 -> 0
A12: CADENA DE DISTRIBUCION ELC
A13: T-K0102-C | C13: CADENA 25H | E13: 84 | F13: =+VLOOKUP(A13,'LISTA IMPORTADO'!A:B,2,0) -> 1.596 | G13: =+(F13*1.21)*J15 -> 0
A14: T-K0103-C | C14: CADENA 25H | E14: 90 | F14: =+VLOOKUP(A14,'LISTA IMPORTADO'!A:B,2,0) -> 1.667 | G14: =+(F14*1.21)*J15 -> 0
A15: CADENA DE TRANSMISION | I15: T.Cambio | J15: =+'ERO DISTRIBUCIONES SRL'!G48 -> 0
A16: T-K0001-0 | C16: CADENA 415 H | D16: 1/2" x 3/16" | E16: 102 | F16: =+VLOOKUP(A16,'LISTA IMPORTADO'!A:B,2,0) -> 4.588 | G16: =+(F16*1.21)*$J$15 -> 0
A17: T-K0005-0 | C17: CADENA 428 | D17: 1/2" x 5/16" | E17: 108 | F17: =+VLOOKUP(A17,'LISTA IMPORTADO'!A:B,2,0) -> 6.627 | G17: =+(F17*1.21)*$J$15 -> 0
A18: T-K0006-0 | C18: CADENA 428 H | D18: 1/2" x 5/16" | E18: 108 | F18: =+VLOOKUP(A18,'LISTA IMPORTADO'!A:B,2,0) -> 7.219 | G18: =+(F18*1.21)*$J$15 -> 0
A19: T-K0009-1 | C19: CADENA 428 | D19: 1/2" x 5/16" | E19: 126 | F19: =+VLOOKUP(A19,'LISTA IMPORTADO'!A:B,2,0) -> 7.875 | G19: =+(F19*1.21)*$J$15 -> 0
A20: CADENA DE TRANSMISION
A21: T-C0002-C | C21: CADENA 420 ELC | D21: 1/2" x1/4" | E21: 112 | F21: =+VLOOKUP(A21,'LISTA IMPORTADO'!A:B,2,0) -> 5.013 | G21: =+(F21*1.21)*$J$15 -> 0
A22: T-C0005-C | C22: CADENA 428 ELC | D22: 1/2" x 5/16" | E22: 110 | F22: =+VLOOKUP(A22,'LISTA IMPORTADO'!A:B,2,0) -> 4.29 | G22: =+(F22*1.21)*$J$15 -> 0
A23: T-C0007-C | C23: CADENA 428 ELC | D23: 1/2" x 5/16" | E23: 118 | F23: =+VLOOKUP(A23,'LISTA IMPORTADO'!A:B,2,0) -> 5.346 | G23: =+(F23*1.21)*$J$15 -> 0
A24: T-C0007-0 | C24: CADENA 428 TEC | D24: 1/2" x 5/16" | E24: 118 | F24: =+VLOOKUP(A24,'LISTA IMPORTADO'!A:B,2,0) -> 5.346 | G24: =+(F24*1.21)*$J$15 -> 0
A25: T-C0020-0 | C25: CADENA 428 GOLD TEC | D25: 1/2" x 5/16" | E25: 118 | F25: =+VLOOKUP(A25,'LISTA IMPORTADO'!A:B,2,0) -> 6.885 | G25: =+(F25*1.21)*$J$15 -> 0
A26: T-C0009-C | C26: CADENA 428 ELC | D26: 1/2" x 5/16" | E26: 130 | F26: =+VLOOKUP(A26,'LISTA IMPORTADO'!A:B,2,0) -> 5.859 | G26: =+(F26*1.21)*$J$15 -> 0
A27: T-C0009-0 | C27: CADENA 428 TEC | D27: 1/2" x 5/16" | E27: 130 | F27: =+VLOOKUP(A27,'LISTA IMPORTADO'!A:B,2,0) -> 5.859 | G27: =+(F27*1.21)*$J$15 -> 0
A28: T-C0011-C | C28: CADENA 428 H ELC | D28: 1/2" x 5/16" | E28: 136 | F28: =+VLOOKUP(A28,'LISTA IMPORTADO'!A:B,2,0) -> 6.354 | G28: =+(F28*1.21)*$J$15 -> 0
A29: T-C0006-0 | C29: CADENA 428 H TEC | D29: 1/2" x 5/16" | E29: 108 | F29: =+VLOOKUP(A29,'LISTA IMPORTADO'!A:B,2,0) -> 7.49 | G29: =+(F29*1.21)*$J$15 -> 0
A30: T-C0006-C | C30: CADENA 428H "ELC" | E30: 110L | F30: =+VLOOKUP(A30,'LISTA IMPORTADO'!A:B,2,0) -> 5.463 | G30: =+(F30*1.21)*$J$15 -> 0
A31: T-C0010-C | C31: CADENA 428 H ELC | D31: 1/2" x 5/16" | E31: 130 | F31: =+VLOOKUP(A31,'LISTA IMPORTADO'!A:B,2,0) -> 6.417 | G31: =+(F31*1.21)*$J$15 -> 0
A32: T-C0008-0 | C32: CADENA 428 H TEC | D32: 1/2" x 5/16" | E32: 118 | F32: =+VLOOKUP(A32,'LISTA IMPORTADO'!A:B,2,0) -> 5.859 | G32: =+(F32*1.21)*$J$15 -> 0
A33: T-C0008-C | C33: CADENA 428H "ELC" | E33: 118L | F33: =+VLOOKUP(A33,'LISTA IMPORTADO'!A:B,2,0) -> 5.859 | G33: =+(F33*1.21)*$J$15 -> 0
A34: T-C0021-0 | C34: CADENA 428 H GOLD TEC | D34: 1/2" x 5/16" | E34: 118 | F34: =+VLOOKUP(A34,'LISTA IMPORTADO'!A:B,2,0) -> 7.245 | G34: =+(F34*1.21)*$J$15 -> 0
A35: T-C0022-C | C35: CADENA 428 x "ELC" | E35: 110L | F35: =+VLOOKUP(A35,'LISTA IMPORTADO'!A:B,2,0) -> 6.417 | G35: =+(F35*1.21)*$J$15 -> 0
A36: T-C0010-0 | C36: CADENA 428H TEC | D36: 1/2" x 5/16" | E36: 130 | F36: =+VLOOKUP(A36,'LISTA IMPORTADO'!A:B,2,0) -> 6.417 | G36: =+(F36*1.21)*$J$15 -> 0
A37: T-C0012-C | C37: CADENA 428H ELC | D37: 5/8" x 5/16" | E37: 136 | F37: =+VLOOKUP(A37,'LISTA IMPORTADO'!A:B,2,0) -> 7.407 | G37: =+(F37*1.21)*$J$15 -> 0
A38: T-C0016-C | C38: CADENA 520H ELC | D38: 5/8" x 5/16" | E38: 118 | F38: =+VLOOKUP(A38,'LISTA IMPORTADO'!A:B,2,0) -> 13.387 | G38: =+(F38*1.21)*$J$15 -> 0
A39: T-C0017-0 | C39: CADENA 525 TEC | D39: 1/2" x 5/16" | E39: 118 | F39: =+VLOOKUP(A39,'LISTA IMPORTADO'!A:B,2,0) -> 20.844 | G39: =+(F39*1.21)*$J$15 -> 0
A40: T-C0018-0 | C40: CADENA 530 TEC | D40: 1/2" x 5/16" | E40: 118 | F40: =+VLOOKUP(A40,'LISTA IMPORTADO'!A:B,2,0) -> 24.09 | G40: =+(F40*1.21)*$J$15 -> 0

Sheet CARBURACION
A2: CÓDIGO | B2: PEDIDO | C2: DESCRIPCIÓN | D2: PRECIO SIN IVA | E2: PRECIO CON IVA
A3: W-00221-0 | C3: AGUJA FLOTANTE GILERA 150 | D3: =+VLOOKUP(A3,'LISTA NACIONAL'!A:B,2,0) -> 1274.549 | E3: =+D3*1.21 -> 1542.2043
A4: W-00225-0 | C4: AGUJA FLOTANTE ZANELLA 175 | D4: =+VLOOKUP(A4,'LISTA NACIONAL'!A:B,2,0) -> 1274.549 | E4: =+D4*1.21 -> 1542.2043
A5: W-00354-0 | C5: AGUJA FLOTANTE DAELIM LIBERTY | D5: =+VLOOKUP(A5,'LISTA NACIONAL'!A:B,2,0) -> 3591 | E5: =+D5*1.21 -> 4345.11
A6: W-00357-0 | C6: AGUJA FLOTANTE HERO PUCH | D6: =+VLOOKUP(A6,'LISTA NACIONAL'!A:B,2,0) -> 1790.699 | E6: =+D6*1.21 -> 2166.7458
A7: W-00358-0 | C7: AGUJA FLOTANTE SMASH C/P/GOMA CON GANCHO | D7: =+VLOOKUP(A7,'LISTA NACIONAL'!A:B,2,0) -> 3215.7 | E7: =+D7*1.21 -> 3890.997
A8: W-00359-0 | C8: AGUJA FLOTANTE HONDA CG 125 C/P/GOMA | D8: =+VLOOKUP(A8,'LISTA NACIONAL'!A:B,2,0) -> 8100 | E8: =+D8*1.21 -> 9801
A9: W-00360-0 | C9: AGUJA FLOTANTE YAMAHA YBR 125 C/P/GOMA | D9: =+VLOOKUP(A9,'LISTA NACIONAL'!A:B,2,0) -> 8100 | E9: =+D9*1.21 -> 9801
A10: W-00362-0 | C10: AGUJA FLOTANTE ZANELLA RX 150 C/P/GOMA ¡NUEVO! | D10: =+VLOOKUP(A10,'LISTA NACIONAL'!A:B,2,0) -> 8910 | E10: =+D10*1.21 -> 10781.1
A11: W-00188-0 | C11: AGUJA FLOTANTE CICLOMOTOR C/P/GOMA | D11: =+VLOOKUP(A11,'LISTA NACIONAL'!A:B,2,0) -> 3591 | E11: =+D11*1.21 -> 4345.11
A12: W-00240-0 | C12: AGUJA PANTALLA GILERA 150 | D12: =+VLOOKUP(A12,'LISTA NACIONAL'!A:B,2,0) -> 2844.051 | E12: =+D12*1.21 -> 3441.3017
A13: W-00363-0 | C13: AGUJA CORTINA GILERA SMASH ¡NUEVO! | D13: =+VLOOKUP(A13,'LISTA NACIONAL'!A:B,2,0) -> 432 | E13: =+D13*1.21 -> 522.72
A14: W-00364-0 | C14: AGUJA CORTINA HONDA CG 125 ¡NUEVO! | D14: =+VLOOKUP(A14,'LISTA NACIONAL'!A:B,2,0) -> 405 | E14: =+D14*1.21 -> 490.05
... A51: W-00341-0 | C51: TORNILLO REGISTRO CORTINA HONDA CG ¡NUEVO! | D51: =+VLOOKUP(A51,'LISTA NACIONAL'!A:B,2,0) -> 675 | E51: =+D51*1.21 -> 816.75

Sheet CORONA-PIÑON
A5: CODIGO | B5: PEDIDO | C5: DESCRIPCION | D5: PASO | E5: LINKS | F5: PRECIO S/ IVA | G5: PRECIO C/ IVA | J5: 816
A6: KIT CORONA / PIÑON IMPORTADA
A7: T-DA001-C | C7: CORONA Y PIÑON HONDA DAX 70 Z35 / T15 | D7: 428 | E7: 35-15 | F7: =+VLOOKUP(A7,'LISTA IMPORTADO'!A:B,2,0) -> 8.124 | G7: =+F7*1.21*$J$5 -> 8021.3126
A8: T-23515-C | C8: CORONA Y PIÑON TRIP DRN Z35 / T15 PASO 420 | D8: 420 | E8: 35-15 | F8: =+VLOOKUP(A8,'LISTA IMPORTADO'!A:B,2,0) -> 7.13 | G8: =+F8*1.21*$J$5 -> 7039.8768
A9: T-73515-C | C9: CORONA Y PIÑON SMASH / WAVE DRN Z35 / T15 | D9: 428 | E9: 34-15 | F9: =+VLOOKUP(A9,'LISTA IMPORTADO'!A:B,2,0) -> 6.379 | G9: =+F9*1.21*$J$5 -> 6298.3694
A10: T-73614-C | C10: CORONA Y PIÑON SMASH / WAVE DRN Z36 / T14 | D10: 428 | E10: 36-14 | F10: =+VLOOKUP(A10,'LISTA IMPORTADO'!A:B,2,0) -> 4.8 | G10: =+F10*1.21*$J$5 -> 4739.328
A11: T-BIZ01-C | C11: CORONA Y PIÑON HONDA BIZ DRN Z35 / T15 | D11: 428 | E11: 35-15 | F11: =+VLOOKUP(A11,'LISTA IMPORTADO'!A:B,2,0) -> 8.551 | G11: =+F11*1.21*$J$5 -> 8442.9154
A12: T-BIZ02-C | C12: CORONA Y PIÑON HONDA BIZ 125 DRN Z35 / T15 | D12: 428 | E12: 35-15 | F12: =+VLOOKUP(A12,'LISTA IMPORTADO'!A:B,2,0) -> 8.386 | G12: =+F12*1.21*$J$5 -> 8280.001
A13: T-23714-C | C13: CORONA Y PIÑON HONDA NEW WAVE PASO 420 Z37/T14 | D13: 420 | E13: 37-14 | F13: =+VLOOKUP(A13,'LISTA IMPORTADO'!A:B,2,0) -> 6.5 | G13: =+F13*1.21*$J$5 -> 6417.84
A14: T-73715-C | C14: CORONA Y PIÑON YAMAHA CRYPTON DRN Z37 / T15 | D14: 428 | E14: 37-15 | F14: =+VLOOKUP(A14,'LISTA IMPORTADO'!A:B,2,0) -> 9.566 | G14: =+F14*1.21*$J$5 -> 9445.0858
A15: T-73815-C | C15: CORONA Y PIÑON CG 125 / RX 150 Z38 / T15 | D15: 428 | E15: 44-14 | F15: =+VLOOKUP(A15,'LISTA IMPORTADO'!A:B,2,0) -> 7.112 | G15: =+F15*1.21*$J$5 -> 7022.1043
A16: T-74414-C | C16: CORONA Y PIÑON CG 125 FAN/ TITAN Z44 / T14 | D16: 428 | E16: 43-14 | F16: =+VLOOKUP(A16,'LISTA IMPORTADO'!A:B,2,0) -> 11.552 | G16: =+F16*1.21*$J$5 -> 11405.983
A17: T-74314-C | C17: CORONA Y PIÑON YAMAHA YBR 125 DRN Z43 / T14 | D17: 428 | E17: 38-15 | F17: =+VLOOKUP(A17,'LISTA IMPORTADO'!A:B,2,0) -> 6.97 | G17: =+F17*1.21*$J$5 -> 6881.8992
A18: T-74316-C | C18: CORONA Y PIÑON HONDA CG 150 Z43 / T 16 | D18: 428 | E18: 43-16 | F18: =+VLOOKUP(A18,'LISTA IMPORTADO'!A:B,2,0) -> 7.64 | G18: =+F18*1.21*$J$5 -> 7543.4304
... A20: T-DK001-C | C20: CORONA Y PIÑON DAKAR 200 DRN Z50 / T17 | D20: 428 | E20: 50-17 | F20: =+VLOOKUP(A20,'LISTA IMPORTADO'!A:B,2,0) -> 12.722 | G20: =+F20*1.21*$J$5 -> 12561.194
A21: T-CB190-C | C21: CORONA Y PIÑON HONDA CB 190 | F21: =+VLOOKUP(A21,'LISTA IMPORTADO'!A:B,2,0) -> 12.155 | G21: =+F21*1.21*$J$5 -> 12001.361
C23: PROMOCION - KIT COMPLETO X 25 UNIDADES
A24: T-K23515-P | C24: TRIP / C 90 /110 | D24: 420 x 112 | E24: 35-15 | F24: =+VLOOKUP(A24,'LISTA IMPORTADO'!A:B,2,0) -> #N/A | G24: =+(F24*1.21)*$J$5 -> #N/A
A25: T-K3515-P | C25: SMASH / WAVE / 110 VS** | D25: 428x118 | E25: 35-15 | F25: =+VLOOKUP(A25,'LISTA IMPORTADO'!A:B,2,0) -> #N/A | G25: =+(F25*1.21)*$J$5 -> #N/A
A26: T-K3515-P05 | C26: SMASH / WAVE / 110 VS** | D26: 428x108 | E26: 35-15 | F26: =+VLOOKUP(A26,'LISTA IMPORTADO'!A:B,2,0) -> #N/A | G26: =+(F26*1.21)*$J$5 -> #N/A
A27: T-K3515-PH | C27: SMASH / WAVE / 110 VS** REFORZADA | D27: 428x118H | E27: 35-15 | F27: =+VLOOKUP(A27,'LISTA IMPORTADO'!A:B,2,0) -> #N/A | G27: =+(F27*1.21)*$J$5 -> #N/A
A28: T-K3614-P05 | C28: SMASH / WAVE / 110 VS** | D28: 428 x 108 | E28: 36-14 | F28: =+VLOOKUP(A28,'LISTA IMPORTADO'!A:B,2,0) -> 11580.232 | G28: =+(F28*1.21)*$J$5 -> 11433858
A29: T-K3614-P | C29: SMASH / WAVE / 110 VS** | D29: 428 x 118 | E29: 36-14 | F29: =+VLOOKUP(A29,'LISTA IMPORTADO'!A:B,2,0) -> #N/A | G29: =+(F29*1.21)*$J$5 -> #N/A
A30: T-K3614-PH | C30: SMASH / WAVE / 110 REFORZADA | D30: 428 x 118H | E30: 36-14 | F30: =+VLOOKUP(A30,'LISTA IMPORTADO'!A:B,2,0) -> #N/A | G30: =+(F30*1.21)*$J$5 -> #N/A
A31: T-K3614-P06 | C31: SMASH / WAVE / 110 REFORZADA | D31: 428 x 108H | E31: 36-14 | F31: =+VLOOKUP(A31,'LISTA IMPORTADO'!A:B,2,0) -> #N/A | G31: =+(F31*1.21)*$J$5 -> #N/A

Sheet COTT
G1: PEDIDO
D5: ESCAPES CROMADOS TUNNING | G5: PEDIDO | I5: ESCAPES
B7: CODIGO | C7: PEDIDO | D7: MODELO / DESCRIPCION | E7: PRECIO S/ IVA | F7: PRECIO C/IVA | I7: ACCESORIOS
A8: APPIA | B8: C-00082-0 | D8: DCN 110 Ø3,5 | E8: =+VLOOKUP(B8,'LISTA NACIONAL'!A:B,2,0) -> 40853.957 | F8: =+E8*1.21 -> 49433.288
B9: C-00086-0 | D9: VECTRA Ø3,5 | E9: =+VLOOKUP(B9,'LISTA NACIONAL'!A:B,2,0) -> 40511.173 | F9: =+E9*1.21 -> 49018.519
B10: C-00083-0 | D10: CITI PLUS Ø3,5 | E10: =+VLOOKUP(B10,'LISTA NACIONAL'!A:B,2,0) -> 40511.864 | F10: =+E10*1.21 -> 49019.355
B11: C-00076-0 | D11: CITI PLUS Ø4 | E11: =+VLOOKUP(B11,'LISTA NACIONAL'!A:B,2,0) -> 49888.223 | F11: =+E11*1.21 -> 60364.75
B12: C-00049-0 | D12: ANDINA Ø3,5 | E12: =+VLOOKUP(B12,'LISTA NACIONAL'!A:B,2,0) -> 40853.957 | F12: =+E12*1.21 -> 49433.288
B13: C-00095-0 | D13: BERAKA Ø3,5 | E13: =+VLOOKUP(B13,'LISTA NACIONAL'!A:B,2,0) -> 43188.296 | F13: =+E13*1.21 -> 52257.838 | H13: QUILLA FZ 16 CARENERA 2015
B14: C-00051-0 | D14: STRONGER 150 Ø 4" | E14: =+VLOOKUP(B14,'LISTA NACIONAL'!A:B,2,0) -> 57632.083 | F14: =+E14*1.21 -> 69734.82
B15: C-00094-0 | D15: APPIA MONTERO SUPER 150 Ø4 | E15: =+VLOOKUP(B15,'LISTA NACIONAL'!A:B,2,0) -> 57632.083 | F15: =+E15*1.21 -> 69734.82
B16: C-00056-0 | D16: APPIA MONTERO SUPER 150 M/Nuevo Ø4 | E16: =+VLOOKUP(B16,'LISTA NACIONAL'!A:B,2,0) -> 57632.083 | F16: =+E16*1.21 -> 69734.82
B17: C-00084-0 | D17: APPIA BREZZA 150 Ø4 | E17: =+VLOOKUP(B17,'LISTA NACIONAL'!A:B,2,0) -> 57632.083 | F17: =+E17*1.21 -> 69734.82
A18: CERRO | B18: C-00058-0 | D18: BIX 110 Ø3,5 | E18: =+VLOOKUP(B18,'LISTA NACIONAL'!A:B,2,0) -> 77855.089 | F18: =+E18*1.21 -> 94204.658
B19: C-00092-0 | D19: BIX 110 Ø4 | E19: =+VLOOKUP(B19,'LISTA NACIONAL'!A:B,2,0) -> 50369.806 | F19: =+E19*1.21 -> 60947.465
B20: C-00095-0 | D20: FLY Ø3,5 | E20: =+VLOOKUP(B20,'LISTA NACIONAL'!A:B,2,0) -> 43188.296 | F20: =+E20*1.21 -> 52257.838
B21: C-00042-0 | D21: CE 150 Ø4 CON SOPORTE ADAPTADOR | E21: =+VLOOKUP(B21,'LISTA NACIONAL'!A:B,2,0) -> 120213.19 | F21: =+E21*1.21 -> 145457.96
A22: GILERA | B22: C-00077-0 | D22: FUTURA 110 Ø3,5 | E22: =+VLOOKUP(B22,'LISTA NACIONAL'!A:B,2,0) -> 40511.864 | F22: =+E22*1.21 -> 49019.355
B23: C-00058-0 | D23: SMASH 110 Ø3,5 | E23: =+VLOOKUP(B23,'LISTA NACIONAL'!A:B,2,0) -> 77855.089 | F23: =+E23*1.21 -> 94204.658
B24: C-00092-0 | D24: SMASH 110 Ø4 | E24: =+VLOOKUP(B24,'LISTA NACIONAL'!A:B,2,0) -> 50369.806 | F24: =+E24*1.21 -> 60947.465
B25: C-00104-0 | D25: SMASH VERY Ø3,5 | E25: =+VLOOKUP(B25,'LISTA NACIONAL'!A:B,2,0) -> 40511.864 | F25: =+E25*1.21 -> 49019.355
A26: GUERRERO | B26: C-00005-0 | D26: DAY GT 110 Ø3,5 | E26: =+VLOOKUP(B26,'LISTA NACIONAL'!A:B,2,0) -> 47565.201 | F26: =+E26*1.21 -> 57553.893
B27: C-00006-0 | D27: G 50 / G 70 Ø3 | E27: =+VLOOKUP(B27,'LISTA NACIONAL'!A:B,2,0) -> 36520.951 | F27: =+E27*1.21 -> 44190.351
B28: C-00028-0 | D28: GD 100 Ø3 | E28: =+VLOOKUP(B28,'LISTA NACIONAL'!A:B,2,0) -> 36520.951 | F28: =+E28*1.21 -> 44190.351
B29: C-00029-0 | D29: FUTURE 110 Ø3,5 | E29: =+VLOOKUP(B29,'LISTA NACIONAL'!A:B,2,0) -> 40511.173 | F29: =+E29*1.21 -> 49018.519
B30: C-00031-0 | D30: TRIP 110 Ø3,5 | E30: =+VLOOKUP(B30,'LISTA NACIONAL'!A:B,2,0) -> 40511.173 | F30: =+E30*1.21 -> 49018.519
B31: C-00092-0 | D31: TRIP 110 Ø4 | E31: =+VLOOKUP(B31,'LISTA NACIONAL'!A:B,2,0) -> 50369.806 | F31: =+E31*1.21 -> 60947.465
B32: C-00068-0 | D32: MAGIC G 100 Ø3,5 | E32: =+VLOOKUP(B32,'LISTA NACIONAL'!A:B,2,0) -> 40511.173 | F32: =+E32*1.21 -> 49018.519
B33: C-00088-0 | D33: MAGIC 110 Ø3,5 | E33: =+VLOOKUP(B33,'LISTA NACIONAL'!A:B,2,0) -> 40511.173 | F33: =+E33*1.21 -> 49018.519
B34: C-00030-0 | D34: MAGIC 110 Ø3,5 | E34: =+VLOOKUP(B34,'LISTA NACIONAL'!A:B,2,0) -> 40511.173 | F34: =+E34*1.21 -> 49018.519
B35: C-00042-0 | D35: GC 125 QUEEN Ø4 CON SOPORTE ADAPTADOR | E35: =+VLOOKUP(B35,'LISTA NACIONAL'!A:B,2,0) -> 120213.19 | F35: =+E35*1.21 -> 145457.96
B36: C-00050-0 | D36: THUNDRA Ø4 | E36: =+VLOOKUP(B36,'LISTA NACIONAL'!A:B,2,0) -> 57632.083 | F36: =+E36*1.21 -> 69734.82
A37: BAJAJ | B37: C-00112-0 | D37: ROUSER 135 Ø4 | E37: =+VLOOKUP(B37,'LISTA NACIONAL'!A:B,2,0) -> 59098.103 | F37: =+E37*1.21 -> 71508.705
B38: C-00057-0 | D38: ROUSER 200 Ø4,5 | E38: =+VLOOKUP(B38,'LISTA NACIONAL'!A:B,2,0) -> 74024.948 | F38: =+E38*1.21 -> 89570.187
A39: HONDA | B39: C-00005-0 | D39: DAX 70 Ø3,5 | E39: =+VLOOKUP(B39,'LISTA NACIONAL'!A:B,2,0) -> 47565.201 | F39: =+E39*1.21 -> 57553.893
B40: C-00006-0 | D40: ECONO POWER Ø3 | E40: =+VLOOKUP(B40,'LISTA NACIONAL'!A:B,2,0) -> 36520.951 | F40: =+E40*1.21 -> 44190.351
B41: C-00083-0 | D41: BIZ. CUP Ø3,5 | E41: =+VLOOKUP(B41,'LISTA NACIONAL'!A:B,2,0) -> 40511.864 | F41: =+E41*1.21 -> 49019.355
B42: C-00076-0 | D42: BIZ. CUP Ø4 | E42: =+VLOOKUP(B42,'LISTA NACIONAL'!A:B,2,0) -> 49888.223 | F42: =+E42*1.21 -> 60364.75
B43: C-00110-0 | D43: BIZ. CUP 125 ES Ø4 | E43: =+VLOOKUP(B43,'LISTA NACIONAL'!A:B,2,0) -> 53075.286 | F43: =+E43*1.21 -> 64221.096
B44: C-00088-0 | D44: WAVE Ø3,5 | E44: =+VLOOKUP(B44,'LISTA NACIONAL'!A:B,2,0) -> 40511.173 | F44: =+E44*1.21 -> 49018.519
...

Sheet CURVA ESCAPE
C6: CURVAS DE ESCAPE
A7: CODIGO | B7: PEDIDOS | C7: DESCRIPCION | D7: PRECIO S/IVA | E7: PRECIO C/IVA
A8: C-M0051-0 | C8: CURVA DE ESCAPE MOTOMEL SKUA | D8: =+VLOOKUP(A8,'LISTA NACIONAL'!A:B,2,0) -> 12960 | E8: =+D8*1.21 -> 15681.6
A9: C-M0058-0 | C9: CURVA DE ESCAPE 110 UNIVERSAL NUEVO | D9: =+VLOOKUP(A9,'LISTA NACIONAL'!A:B,2,0) -> 4925 | E9: =+D9*1.21 -> 5959.25
A10: C-M0126-0 | C10: CURVA DE ESCAPE HONDA NEW WAVE NUEVO | D10: =+VLOOKUP(A10,'LISTA NACIONAL'!A:B,2,0) -> 6115.5 | E10: =+D10*1.21 -> 7399.755
A11: C-M0111-0 | C11: CURVA DE ESCAPE HONDA BIZ 125 NUEVO | D11: =+VLOOKUP(A11,'LISTA NACIONAL'!A:B,2,0) -> 6115.5 | E11: =+D11*1.21 -> 7399.755
A12: C-M0127-0 | C12: CURVA ESCAPE HONDA WAVE S 110 | D12: =+VLOOKUP(A12,'LISTA NACIONAL'!A:B,2,0) -> 6660.9 | E12: =+D12*1.21 -> 8059.689
A13: C-M0025-0 | C13: CURVA DE ESCAPE YAMAHA CRYPTON NUEVO | D13: =+VLOOKUP(A13,'LISTA NACIONAL'!A:B,2,0) -> 6115.5 | E13: =+D13*1.21 -> 7399.755
A14: C-M0108-0 | C14: CURVA DE ESCAPE YAMAHA NEW CRYPTON NUEVO | D14: =+VLOOKUP(A14,'LISTA NACIONAL'!A:B,2,0) -> 6444.9 | E14: =+D14*1.21 -> 7798.329
A15: C-M0042-0 | C15: CURVA ESCAPE RX 150 / CHINAS VS | D15: =+VLOOKUP(A15,'LISTA NACIONAL'!A:B,2,0) -> 11745 | E15: =+D15*1.21 -> 14211.45
A16: C-M0005-0 | C16: CURVA ESCAPE HONDA DAX 70 | D16: =+VLOOKUP(A16,'LISTA NACIONAL'!A:B,2,0) -> 6837 | E16: =+D16*1.21 -> 8272.77
C17: JUNTAS DE ESCAPE
A18: CODIGO | B18: PEDIDOS | C18: DESCRIPCION | D18: PRECIO S/IVA | E18: PRECIO C/IVA
A19: J-E0001-0 | C19: JUNTA ESCAPE 110cc | D19: =+VLOOKUP(A19,'LISTA NACIONAL'!A:B,2,0) -> 192 | E19: =+D19*1.21 -> 232.32
A20: J-E0002-0 | C20: JUNTA ESCAPE 125cc | D20: =+VLOOKUP(A20,'LISTA NACIONAL'!A:B,2,0) -> 192 | E20: =+D20*1.21 -> 232.32

Sheet CAMARAS
A8: CAMARAS 100% BUTILICAS | F8: PEDIDO
A9: RAMVEL
D10: DÓLAR | E10: PESOS
A11: CODIGO | B11: PEDIDOS | C11: DESCRIPCION | D11: PRECIO S/IVA | E11: PRECIO C/IVA
A12: K-C10350-R | C12: 350 X 10 | D12: =+VLOOKUP(A12,'LISTA IMPORTADO'!A:B,2,0) -> 4.13 | E12: =+(D12*$G$14)*1.21 -> 0
A13: K-C13130-R | C13: 130 x 13 | D13: =+VLOOKUP(A13,'LISTA IMPORTADO'!A:B,2,0) -> 5.746 | E13: =+(D13*$G$14)*1.21 -> 0
A14: K-C14300-R | C14: 300 x 14 | D14: =+VLOOKUP(A14,'LISTA IMPORTADO'!A:B,2,0) -> 2.46 | E14: =+(D14*$G$14)*1.21 -> 0 | F14: DÓLAR | G14: =+'ERO DISTRIBUCIONES SRL'!G48 -> 0
A15: K-C16225-R | C15: 225 x 16 | D15: =+VLOOKUP(A15,'LISTA IMPORTADO'!A:B,2,0) -> 2.666 | E15: =+(D15*$G$14)*1.21 -> 0
A16: K-C16350-R | C16: 350 x 16 | D16: =+VLOOKUP(A16,'LISTA IMPORTADO'!A:B,2,0) -> 4.862 | E16: =+(D16*$G$14)*1.21 -> 0
A17: K-C17225-R | C17: 225 / 250 x 17 | D17: =+VLOOKUP(A17,'LISTA IMPORTADO'!A:B,2,0) -> 2.46 | E17: =+(D17*$G$14)*1.21 -> 0
A18: K-C17300-R | C18: 275 / 300 x 17 | D18: =+VLOOKUP(A18,'LISTA IMPORTADO'!A:B,2,0) -> 4.071 | E18: =+(D18*$G$14)*1.21 -> 0
A19: K-C17410-R | C19: 410 x 17 | D19: =+VLOOKUP(A19,'LISTA IMPORTADO'!A:B,2,0) -> 3.021 | E19: =+(D19*$G$14)*1.21 -> 0
A20: K-C18300-R | C20: 275 / 300 x 18 | D20: =+VLOOKUP(A20,'LISTA IMPORTADO'!A:B,2,0) -> 2.871 | E20: =+(D20*$G$14)*1.21 -> 0
A21: K-C18410-R | C21: 410 x 18 | D21: =+VLOOKUP(A21,'LISTA IMPORTADO'!A:B,2,0) -> 3.817 | E21: =+(D21*$G$14)*1.21 -> 0
A22: K-C19300-R | C22: 300 x 19 | D22: =+VLOOKUP(A22,'LISTA IMPORTADO'!A:B,2,0) -> 4.204 | E22: =+(D22*$G$14)*1.21 -> 0
A23: K-C21300-R | C23: 300 x 21 | D23: =+VLOOKUP(A23,'LISTA IMPORTADO'!A:B,2,0) -> 3.517 | E23: =+(D23*$G$14)*1.21 -> 0
C25: DRN- LINEA PREMIUM
A26: K-C8400-0 | C26: 400x8 | D26: =+VLOOKUP(A26,'LISTA IMPORTADO'!A:B,2,0) -> 7.344 | E26: =+(D26*$G$14)*1.21 -> 0
A27: K-C10350-0 | C27: 350 x 10 | D27: =+VLOOKUP(A27,'LISTA IMPORTADO'!A:B,2,0) -> 4.216 | E27: =+(D27*$G$14)*1.21 -> 0
A28: K-C13130-0 | C28: 130/60 x 13 | D28: =+VLOOKUP(A28,'LISTA IMPORTADO'!A:B,2,0) -> #N/A | E28: =+(D28*$G$14)*1.21 -> #N/A
A29: K-C14300-0 | C29: 300 x 14 | D29: =+VLOOKUP(A29,'LISTA IMPORTADO'!A:B,2,0) -> 4.144 | E29: =+(D29*$G$14)*1.21 -> 0
A30: K-C15130-0 | C30: 130/90 x 15 | D30: =+VLOOKUP(A30,'LISTA IMPORTADO'!A:B,2,0) -> 7.181 | E30: =+(D30*$G$14)*1.21 -> 0
A31: K-C16350-0 | C31: 350 x 16 | D31: =+VLOOKUP(A31,'LISTA IMPORTADO'!A:B,2,0) -> 5.81 | E31: =+(D31*$G$14)*1.21 -> 0
A32: K-C17225-0 | C32: 225 / 250 x 17 | D32: =+VLOOKUP(A32,'LISTA IMPORTADO'!A:B,2,0) -> 5.012 | E32: =+(D32*$G$14)*1.21 -> 0
A33: K-C17300-0 | C33: 275/300 x 17 | D33: =+VLOOKUP(A33,'LISTA IMPORTADO'!A:B,2,0) -> 4.766 | E33: =+(D33*$G$14)*1.21 -> 0
A34: K-C17410-0 | C34: 4.10 x 17 | D34: =+VLOOKUP(A34,'LISTA IMPORTADO'!A:B,2,0) -> 3.425 | E34: =+(D34*$G$14)*1.21 -> 0
A35: K-C18300-0 | C35: 300 x 18 | D35: =+VLOOKUP(A35,'LISTA IMPORTADO'!A:B,2,0) -> 4.703 | E35: =+(D35*$G$14)*1.21 -> 0
A36: K-C18410-0 | C36: 410 x 18 | D36: =+VLOOKUP(A36,'LISTA IMPORTADO'!A:B,2,0) -> 4.479 | E36: =+(D36*$G$14)*1.21 -> 0
A37: K-C19300-0 | C37: 275/300 x 19 | D37: =+VLOOKUP(A37,'LISTA IMPORTADO'!A:B,2,0) -> 4.642 | E37: =+(D37*$G$14)*1.21 -> 0
A38: K-C21300-0 | C38: 275/300 x 21 | D38: =+VLOOKUP(A38,'LISTA IMPORTADO'!A:B,2,0) -> 6.23 | E38: =+(D38*$G$14)*1.21 -> 0

Sheet DISCOS
A4: DISCOS DE FRENOS | F4: PEDIDO
A5: CODIGO | B5: PEDIDO | C5: DESCRIPCION | D5: PRECIO S/ IVA | E5: PRECIO C/ IVA
A6: D-I1001-0 | C6: DISCO FRENO DELANTERO CR / CRF / XR | D6: =+VLOOKUP(A6,'LISTA NACIONAL'!A:B,2,0) -> 98847.894 | E6: =+D6*1.21 -> 119605.95
A7: D-I1001-E | C7: DISCO FRENO DELANTERO CR /CRF/XR EXTREME | D7: =+VLOOKUP(A7,'LISTA NACIONAL'!A:B,2,0) -> 98847.894 | E7: =+D7*1.21 -> 119605.95
A8: D-I1002-0 | C8: DISCO FRENO TRASERO HONDA CR HASTA 97 | D8: =+VLOOKUP(A8,'LISTA NACIONAL'!A:B,2,0) -> 101897.36 | E8: =+D8*1.21 -> 123295.81
A9: D-I1005-0 | C9: DISCO FRENO TRASERO HONDA CR 80/CRF 15 | D9: =+VLOOKUP(A9,'LISTA NACIONAL'!A:B,2,0) -> 101897.36 | E9: =+D9*1.21 -> 123295.81
A10: D-I1013-0 | C10: DISCO FRENO TRASERO SUZUKI / KAWASAKI / | D10: =+VLOOKUP(A10,'LISTA NACIONAL'!A:B,2,0) -> #N/A | E10: =+D10*1.21 -> #N/A
A11: D-I1013-E | C11: DISCO FRENO TRASERO HONDA CRF/XR/NX4/XRE | D11: =+VLOOKUP(A11,'LISTA NACIONAL'!A:B,2,0) -> 98945.855 | E11: =+D11*1.21 -> 119724.48
A12: D-I1014-0 | C12: DISCO FRENO TRASERO SUZUKI RM/RMX/DRZ | D12: =+VLOOKUP(A12,'LISTA NACIONAL'!A:B,2,0) -> 108141.1 | E12: =+D12*1.21 -> 130850.74
A13: D-I1015-0 | C13: DISCO FRENO DELANTERO KAWASAKI KDX/KLX/ | D13: =+VLOOKUP(A13,'LISTA NACIONAL'!A:B,2,0) -> 101897.36 | E13: =+D13*1.21 -> 123295.81
A14: D-I1017-0 | C14: DISCO FRENO DELANTERO YAMAHA/KAWASAKI/SU | D14: =+VLOOKUP(A14,'LISTA NACIONAL'!A:B,2,0) -> 110245.07 | E14: =+D14*1.21 -> 133396.53
A15: D-I1017OS270 | C15: DISCO FRENO DELANTERO YAMAHA/KAWASAKI/SU | D15: =+VLOOKUP(A15,'LISTA NACIONAL'!A:B,2,0) -> 131020.63 | E15: =+D15*1.21 -> 158534.96
A16: D-I1017OS278 | C16: DISCO FRENO DELANTERO YAMAHA/KAWASAKI/SU | D16: =+VLOOKUP(A16,'LISTA NACIONAL'!A:B,2,0) -> 131020.63 | E16: =+D16*1.21 -> 158534.96
A17: D-I1024-0 | C17: DISCO FRENO TRASERO KAWASAKI KX/KDX 200 | D17: =+VLOOKUP(A17,'LISTA NACIONAL'!A:B,2,0) -> 101897.36 | E17: =+D17*1.21 -> 123295.81
... A104: D-I2208-0 | C104: DISCO DE FRENO TRASERO KAWASAKI KXF/KLX | D104: =+VLOOKUP(A104,'LISTA NACIONAL'!A:B,2,0) -> 112464.02 | E104: =+D104*1.21 -> 136081.47

Sheet FICHAS E INSTALACIONES
A6: FICHAS Y CONEXIONES UNIVERSALES | H6: PEDIDO | J6: FICHAS Y CONEXIONES UNIVERSALES
A7: CODIGO | B7: PEDIDO | C7: DESCRIPCION | D7: MOTO | E7: PINES | F7: PRECIO | G7: PRECIO C/ IVA
A8: K-IN001-0 | C8: GUIÑOS / BULBO STOP / TANQUE DE NAFTA | D8: SMASH / BIZ / CG / TITAN | E8: 2 PINES MACHO - HEMBRA | F8: =+VLOOKUP(A8,'LISTA NACIONAL'!A:B,2,0) -> 1516.32 | G8: =+F8*1.21 -> 1834.7472 | J8: INSTALACIONES ELECTRICAS
A9: K-IN001-1 | C9: GUIÑOS / BULBO STOP / TANQUE DE NAFTA | D9: SMASH / BIZ / CG / TITAN | E9: 2 PINES HEMBRA | F9: =+VLOOKUP(A9,'LISTA NACIONAL'!A:B,2,0) -> 741.733 | G9: =+F9*1.21 -> 897.49693
A10: K-IN001-2 | C10: GUIÑOS / BULBO STOP / TANQUE DE NAFTA | D10: SMASH / BIZ / CG / TITAN | E10: 2 PINES MACHO | F10: =+VLOOKUP(A10,'LISTA NACIONAL'!A:B,2,0) -> 774.109 | G10: =+F10*1.21 -> 936.67189
A11: K-IN002-0 | C11: FARO TRASERO S/GUIÑOS | D11: CG / TITAN / RX / SKUA / TORNADO | E11: 3 PINES MACHO - HEMBRA | F11: =+VLOOKUP(A11,'LISTA NACIONAL'!A:B,2,0) -> 1902.42 | G11: =+F11*1.21 -> 2301.9282
A12: K-IN002-1 | C12: FARO TRASERO S/GUIÑOS | D12: CG / TITAN / RX / SKUA / TORNADO | E12: 3 PINES HEMBRA | F12: =+VLOOKUP(A12,'LISTA NACIONAL'!A:B,2,0) -> 930.347 | G12: =+F12*1.21 -> 1125.7199
A13: K-IN002-2 | C13: FARO TRASERO S/GUIÑOS | D13: CG / TITAN / RX / SKUA / TORNADO | E13: 3 PINES MACHO | F13: =+VLOOKUP(A13,'LISTA NACIONAL'!A:B,2,0) -> 973.436 | G13: =+F13*1.21 -> 1177.8576
A14: K-IN003-0 | C14: FARO TRASERO C/GUIÑOS | D14: SMASH / TRIP | E14: 5 PINES HEMBRA | F14: =+VLOOKUP(A14,'LISTA NACIONAL'!A:B,2,0) -> 1514.973 | G14: =+F14*1.21 -> 1833.1173
A15: K-IN004-0 | C15: LLAVE DE LUZ 110cc / INSTALACION CENTRAL MONOFASICA | D15: SMASH / TRIP | E15: 4 PINES MACHO - HEMBRA | F15: =+VLOOKUP(A15,'LISTA NACIONAL'!A:B,2,0) -> 2171.988 | G15: =+F15*1.21 -> 2628.1055
A16: K-IN004-1 | C16: LLAVE DE LUZ 110cc / INSTALACION CENTRAL MONOFASICA | D16: SMASH / TRIP | E16: 4 PINES HEMBRA | F16: =+VLOOKUP(A16,'LISTA NACIONAL'!A:B,2,0) -> 1096.427 | G16: =+F16*1.21 -> 1326.6767
A17: K-IN004-2 | C17: LLAVE DE LUZ 110cc / INSTALACION CENTRAL MONOFASICA | D17: SMASH / TRIP | E17: 4 PINES MACHO | F17: =+VLOOKUP(A17,'LISTA NACIONAL'!A:B,2,0) -> 1076.868 | G17: =+F17*1.21 -> 1303.0103
A18: K-IN005-0 | C18: INDICADOR DE CAMBIO VELOCIMETRO | D18: SMASH / TRIP | E18: 6 PINES MACHO - HEMBRA | F18: =+VLOOKUP(A18,'LISTA NACIONAL'!A:B,2,0) -> 3236.22 | G18: =+F18*1.21 -> 3915.8262
A19: K-IN005-1 | C19: INDICADOR DE CAMBIO VELOCIMETRO | D19: SMASH / TRIP | E19: 6 PINES HEMBRA | F19: =+VLOOKUP(A19,'LISTA NACIONAL'!A:B,2,0) -> 1584.023 | G19: =+F19*1.21 -> 1916.6678
A20: K-IN005-2 | C20: INDICADOR DE CAMBIO VELOCIMETRO | D20: SMASH / TRIP | E20: 6 PINES MACHO | F20: =+VLOOKUP(A20,'LISTA NACIONAL'!A:B,2,0) -> 1652.411 | G20: =+F20*1.21 -> 1999.4173
... A36: K-IN011-0 | C36: FICHA DESTELLADOR | D36: UNIVERSAL | E36: 2 PINES | F36: =+VLOOKUP(A36,'LISTA NACIONAL'!A:B,2,0) -> 797.753 | G36: =+F36*1.21 -> 965.28113
C37: CONEXIONES PARA REGULADORES Y CDI
A38: CODIGO | B38: PEDIDO | C38: DESCRIPCION | D38: MOTO | E38: PINES | F38: PRECIO | G38: PRECIO C/ IVA
A39: K-IN020-0 | C39: REGULADOR VOLTAGE TRIFASICO | D39: UNIVERSAL - LLAVE CONTACTO BIZ / TRIP / SMASH | E39: 5 PINES MACHO - HEMBRA | F39: =+VLOOKUP(A39,'LISTA NACIONAL'!A:B,2,0) -> 3362.58 | G39: =+F39*1.21 -> 4068.7218
A40: K-IN020-1 | C40: REGULADOR VOLTAGE TRIFASICO | D40: UNIVERSAL - LLAVE CONTACTO BIZ / TRIP / SMASH | E40: 5 PINES HEMBRA | F40: =+VLOOKUP(A40,'LISTA NACIONAL'!A:B,2,0) -> 1541.592 | G40: =+F40*1.21 -> 1865.3263
A41: K-IN020-2 | C41: REGULADOR VOLTAGE TRIFASICO | D41: UNIVERSAL - LLAVE CONTACTO BIZ / TRIP / SMASH | E41: 5 PINES MACHO | F41: =+VLOOKUP(A41,'LISTA NACIONAL'!A:B,2,0) -> 1823.796 | G41: =+F41*1.21 -> 2206.7932
A42: K-IN021-0 | C42: REGULADOR VOLTAGE TRIFASICO | D42: UNIVERSAL | E42: 3 PINES MACHO - HEMBRA | F42: =+VLOOKUP(A42,'LISTA NACIONAL'!A:B,2,0) -> 2066.688 | G42: =+F42*1.21 -> 2500.6925
A43: K-IN022-0 | C43: REGULADOR VOLTAGE MONOFASICO | D43: UNIVERSAL - BIZ - BIT | E43: 4 PINES MACHO - HEMBRA | F43: =+VLOOKUP(A43,'LISTA NACIONAL'!A:B,2,0) -> 2820.15 | G43: =+F43*1.21 -> 3412.3815
A44: K-IN022-1 | C44: REGULADOR VOLTAGE MONOFASICO | D44: UNIVERSAL - BIZ - BIT | E44: 4 PINES HEMBRA | F44: =+VLOOKUP(A44,'LISTA NACIONAL'!A:B,2,0) -> 1356.264 | G44: =+F44*1.21 -> 1641.0794
A45: K-IN022-2 | C45: REGULADOR VOLTAGE MONOFASICO | D45: UNIVERSAL - BIZ - BIT | E45: 4 PINES MACHO | F45: =+VLOOKUP(A45,'LISTA NACIONAL'!A:B,2,0) -> 1464.75 | G45: =+F45*1.21 -> 1772.3475
A46: K-IN023-0 | C46: FICHA REGULADOR VOLTAGE MONOFASICO | D46: DAY - SKUA | E46: 5 PINES HEMBRA | F46: =+VLOOKUP(A46,'LISTA NACIONAL'!A:B,2,0) -> 1514.916 | G46: =+F46*1.21 -> 1833.0484
A47: K-IN024-0 | C47: CDI | D47: BIZ / NEVADA / SMASH | E47: 5 PINES HEMBRA | F47: =+VLOOKUP(A47,'LISTA NACIONAL'!A:B,2,0) -> 1514.916 | G47: =+F47*1.21 -> 1833.0484
A48: K-IN025-0 | C48: CDI | D48: CG TODAY / CBX / NX / TITAN | E48: 2 Y 4 PINES HEMBRA - HEMBRA | F48: =+VLOOKUP(A48,'LISTA NACIONAL'!A:B,2,0) -> 1787.292 | G48: =+F48*1.21 -> 2162.6233
A49: K-IN026-0 | C49: CDI | D49: CG TODAY / CBX / NX / TITAN | E49: 2 PINES HEMBRA | F49: =+VLOOKUP(A49,'LISTA NACIONAL'!A:B,2,0) -> 737.1 | G49: =+F49*1.21 -> 891.891
A50: K-IN027-0 | C50: CDI | D50: CG TODAY / CBX / NX / TITAN | E50: 4 PINES HEMBRA | F50: =+VLOOKUP(A50,'LISTA NACIONAL'!A:B,2,0) -> 1050.192 | G50: =+F50*1.21 -> 1270.7323
... A53: K-IN030-0 | C53: CDI | D53: WAVE / RX / MOTOMEL CG S2 | E53: 2 PINES HEMBRA | F53: =+VLOOKUP(A53,'LISTA NACIONAL'!A:B,2,0) -> 930.852 | G53: =+F53*1.21 -> 1126.3309
C54: CONEXIONES PORTA LAMPARA
A55: CODIGO | B55: PEDIDO | C55: DESCRIPCION | D55: MOTO | E55: PINES | F55: PRECIO | G55: PRECIO C/ IVA
A56: K-IN050-0 | C56: PORTA LAMPARA H4 | D56: UNIVERSAL | E56: H4 | F56: =+VLOOKUP(A56,'LISTA NACIONAL'!A:B,2,0) -> 1287.749 | G56: =+F56*1.21 -> 1558.1763
A57: K-IN051-0 | C57: PORTA LAMPARA S/CULOTE - INDICADOR DE TABLERO | D57: UNIVERSAL | F57: =+VLOOKUP(A57,'LISTA NACIONAL'!A:B,2,0) -> 1011.064 | G57: =+F57*1.21 -> 1223.3874
A58: K-IN060-0 | C58: PORTALAMPARA T10 TABLERO - P/ LAMP. S/ CULOTE A PRESION | D58: UNIVERSAL | F58: =+VLOOKUP(A58,'LISTA NACIONAL'!A:B,2,0) -> 954.72 | G58: =+F58*1.21 -> 1155.2112
A59: K-IN064-0 | C59: PORTA LAMPARA PARA GUIÑO | D59: UNIVERSAL | F59: =+VLOOKUP(A59,'LISTA NACIONAL'!A:B,2,0) -> 954.72 | G59: =+F59*1.21 -> 1155.2112
C60: PORTA LAMPARA PARA GUIÑO
A61: CODIGO | B61: PEDIDO | C61: DESCRIPCION | D61: MOTO | E61: PINES | F61: PRECIO | G61: PRECIO C/ IVA
A62: K-IN052-0 | C62: PORTA FUSIBLE CILINDRICO | D62: UNIVERSAL | F62: =+VLOOKUP(A62,'LISTA NACIONAL'!A:B,2,0) -> 863.46 | G62: =+F62*1.21 -> 1044.7866
...

Sheet FILTROS ECONO
A4: CODIGO | B4: PEDIDO | C4: DESCRIPCION | D4: PRECIO S/IVA | E4: PRECIO C/ IVA
A5: K-00430-0 | C5: Filtro de Aire Conico 35 x 55 | D5: =+VLOOKUP(A5,'LISTA NACIONAL'!A:B,2,0) -> 3852.969 | E5: =+D5*1.21 -> 4662.0925
A6: K-00431-0 | C6: Filtro de Aire Conico 39 x 55 | D6: =+VLOOKUP(A6,'LISTA NACIONAL'!A:B,2,0) -> 3852.969 | E6: =+D6*1.21 -> 4662.0925
A7: K-00432-0 | C7: Filtro de Aire Conico 42 x 55 | D7: =+VLOOKUP(A7,'LISTA NACIONAL'!A:B,2,0) -> 3852.969 | E7: =+D7*1.21 -> 4662.0925
A8: K-00433-0 | C8: Filtro de Aire Conico 60 X 55 | D8: =+VLOOKUP(A8,'LISTA NACIONAL'!A:B,2,0) -> 4232.21 | E8: =+D8*1.21 -> 5120.9741
A9: K-00440-0 | C9: Filtro de Aire Conico 35 x 130 | D9: =+VLOOKUP(A9,'LISTA NACIONAL'!A:B,2,0) -> 6299.298 | E9: =+D9*1.21 -> 7622.1506
A10: K-00441-0 | C10: Filtro de Aire Conico 39 x 130 | D10: =+VLOOKUP(A10,'LISTA NACIONAL'!A:B,2,0) -> 6299.298 | E10: =+D10*1.21 -> 7622.1506
A11: K-00442-0 | C11: Filtro de Aire Conico 42 x 130 | D11: =+VLOOKUP(A11,'LISTA NACIONAL'!A:B,2,0) -> 6299.298 | E11: =+D11*1.21 -> 7622.1506
A12: K-00180-0 | C12: FILTRO DE AIRE BIZ/TRIP/SMASH/OTRAS | D12: =+VLOOKUP(A12,'LISTA NACIONAL'!A:B,2,0) -> 1818.086 | E12: =+D12*1.21 -> 2199.8841

Sheet FILTROS BMB
A4: Filtros de Aire ( Troquel ) | F4: PEDIDO
A5: CODIGO ERO | C5: CODIGO ORIGINAL | D5: APLICACIÓN | E5: PRECIO S/ IVA
A6: F-A5001-0 | D6: FILTRO DE AIRE HONDA DAX | E6: =+VLOOKUP(A6,'LISTA NACIONAL'!A:B,2,0) -> 6568.848 | F6: FILTROS
A7: F-A5002-0 | D7: FILTRO DE AIRE BIZ/TRIP/SMASH | E7: =+VLOOKUP(A7,'LISTA NACIONAL'!A:B,2,0) -> 4806.12 | F7: ACCESORIOS PARA FILTROS
A8: F-A5003-0 | C8: 17211-439-000 | D8: FILTRO DE AIRE TODAY / TITAN | E8: =+VLOOKUP(A8,'LISTA NACIONAL'!A:B,2,0) -> 4572.348
A9: F-A5004-0 | C9: 17213-KW1-901 | D9: FILTRO DE AIRE HONDA CBX 150 / 200 | E9: =+VLOOKUP(A9,'LISTA NACIONAL'!A:B,2,0) -> 6592.865
A10: F-A5005-0 | C10: 4CY-14451-00 | D10: FILTRO DE AIRE YAMAHA AXIS / JOG | E10: =+VLOOKUP(A10,'LISTA NACIONAL'!A:B,2,0) -> 5233.589
A11: F-A5006-0 | C11: 1YU-14451-00 | D11: FILTRO DE AIRE YAM. MINT | E11: =+VLOOKUP(A11,'LISTA NACIONAL'!A:B,2,0) -> 5539.032
A12: F-A5007-0 | C12: 18G-14451-00 | D12: FILTRO DE AIRE YAMAHA DT 125 | E12: =+VLOOKUP(A12,'LISTA NACIONAL'!A:B,2,0) -> 4766.916
A13: F-A5008-0 | D13: FILTRO DE AIRE BETA BS 110 | E13: =+VLOOKUP(A13,'LISTA NACIONAL'!A:B,2,0) -> 4129.488
A14: F-A5009-0 | D14: FILTRO DE AIRE BETA URBA 110 | E14: =+VLOOKUP(A14,'LISTA NACIONAL'!A:B,2,0) -> 6160.982
A15: F-A5010-0 | D15: FILTRO DE AIRE BETA PRO RACE | E15: =+VLOOKUP(A15,'LISTA NACIONAL'!A:B,2,0) -> 3915.521
A16: F-A5012-0 | D16: FILTRO DE AIRE SCOOTER BETA SCOOBY | E16: =+VLOOKUP(A16,'LISTA NACIONAL'!A:B,2,0) -> 5260.481
A17: F-A5013-0 | C17: 11013-1141 | D17: FILTRO DE AIRE KAWA NINJA 250 | E17: =+VLOOKUP(A17,'LISTA NACIONAL'!A:B,2,0) -> 7785.13
A18: F-A5014-0 | D18: FILTRO DE AIRE KARTING MOTOR ROTAX | E18: =+VLOOKUP(A18,'LISTA NACIONAL'!A:B,2,0) -> 15464.99
A19: F-A5015-0 | D19: FILTRO DE AIRE HONDA XR 650 DOBLE E | E19: =+VLOOKUP(A19,'LISTA NACIONAL'!A:B,2,0) -> 21515.851
A20: F-A5016-0 | D20: FILTRO DE AIRE YAMAHA YZF 450 2010 | E20: =+VLOOKUP(A20,'LISTA NACIONAL'!A:B,2,0) -> 19220.299
A21: F-A5017-0 | D21: FILTRO DE AIRE HONDA MB 100 | E21: =+VLOOKUP(A21,'LISTA NACIONAL'!A:B,2,0) -> 5605.562
A22: F-A5018-0 | D22: FILTRO DE AIRE UNIVERSAL -180 X 250- | E22: =+VLOOKUP(A22,'LISTA NACIONAL'!A:B,2,0) -> 14810.4
A23: F-A5019-0 | D23: FILTRO DE AIRE BENELLI TNT 300 | E23: =+VLOOKUP(A23,'LISTA NACIONAL'!A:B,2,0) -> 19209.96
A24: F-A5020-0 | D24: FILTRO DE AIRE BENELLI TNT 600 | E24: =+VLOOKUP(A24,'LISTA NACIONAL'!A:B,2,0) -> 19209.96
A25: F-A5022-0 | D25: FILTRO DE AIRE BENELLI TRK 502 | E25: =+VLOOKUP(A25,'LISTA NACIONAL'!A:B,2,0) -> 20105.844
C26: Filtros de Aire ( Faja )
A27: F-A1401-0 | C27: 17213-KB7-000 | D27: HONDA NX 150 - XL 125 R - XL250R | E27: =+VLOOKUP(A27,'LISTA NACIONAL'!A:B,2,0) -> 7684.087
A28: F-A1402-0 | C28: 5hh-14450-00 | D28: YAMAHA YBR-125 Mod.00-08 | E28: =+VLOOKUP(A28,'LISTA NACIONAL'!A:B,2,0) -> 9076.522
A29: F-A1403-0 | C29: 1S4-14451-00 | D29: YAMAHA YBR 250 - YS 250 - XTZ 250 07 --> | E29: =+VLOOKUP(A29,'LISTA NACIONAL'!A:B,2,0) -> 11787.281
A30: F-A1404-0 | D30: BAJAJ ROUSER 135-180-220 | E30: =+VLOOKUP(A30,'LISTA NACIONAL'!A:B,2,0) -> 11831.03
A31: F-A1405-0 | D31: ZANELLA DUE, SOL 50cc | E31: =+VLOOKUP(A31,'LISTA NACIONAL'!A:B,2,0) -> 7441.997
A32: F-A1406-0 | D32: BAJAJ ROUSER 135 | E32: =+VLOOKUP(A32,'LISTA NACIONAL'!A:B,2,0) -> 10999.896
C33: Filtros de Aire ( Sombrero )
A34: F-A1301-0 | C34: 17213-KZ3-730 | D34: FILTRO DE AIRE CR 125/250 C/ORIFICI | E34: =+VLOOKUP(A34,'LISTA NACIONAL'!A:B,2,0) -> 39729.01
A35: F-A1302-0 | C35: 17213-KZ3-730 | D35: FILTRO DE AIRE CR 125/250 S/ORIFICI | E35: =+VLOOKUP(A35,'LISTA NACIONAL'!A:B,2,0) -> 39729.01
A36: F-A1303-0 | C36: 17213-KKO-000 | D36: FILTRO DE AIRE HONDA XR 200 | E36: =+VLOOKUP(A36,'LISTA NACIONAL'!A:B,2,0) -> 24501.319
A37: F-A1304-0 | C37: 17213-KFO-000 | D37: FILTRO DE AIRE HONDA XR 250/400/600 | E37: =+VLOOKUP(A37,'LISTA NACIONAL'!A:B,2,0) -> 35263.486
A38: F-A1305-0 | C38: 17213-GS2-680 | D38: FILTRO DE AIRE HONDA CR 80 | E38: =+VLOOKUP(A38,'LISTA NACIONAL'!A:B,2,0) -> 37803.382
A39: F-A1306-0 | C39: 11013-1152 | D39: FILTRO DE AIRE KAWASAKI KLR 650 TENGAI | E39: =+VLOOKUP(A39,'LISTA NACIONAL'!A:B,2,0) -> 23107.33
A40: F-A1307-0 | C40: 11013-1151 | D40: FILTRO DE AIRE KAWASAKI KMX 125 | E40: =+VLOOKUP(A40,'LISTA NACIONAL'!A:B,2,0) -> 21642.444
A41: F-A1308-0 | C41: 11013-1196 | D41: FILTRO DE AIRE KAWA KDX 200/250 KLX | E41: =+VLOOKUP(A41,'LISTA NACIONAL'!A:B,2,0) -> 26403.307
A42: F-A1309-0 | C42: 13780-14D02 | D42: FILTRO DE AIRE SUZUKI DR 250 / 350 | E42: =+VLOOKUP(A42,'LISTA NACIONAL'!A:B,2,0) -> 24454.078
A43: F-A1310-0 | C43: 13780-12D00 | D43: FILTRO DE AIRE SUZUKIDR 650 | E43: =+VLOOKUP(A43,'LISTA NACIONAL'!A:B,2,0) -> 22386.694
...

Sheet IMPORTADO DRN
C5: ARBOL DE LEVA | F5: PEDIDO
D6: DÓLAR | E6: PESOS
A7: CODIGO | B7: PEDIDO | C7: DESCRIPCION | D7: PRECIO S/ IVA | E7: PRECIO C/ IVA | F7: DÓLAR | G7: =+'ERO DISTRIBUCIONES SRL'!G48 -> 0
A8: K-C0057-0 | C8: ARBOL DE LEVA SMASH CORTO | D8: =+VLOOKUP(A8,'LISTA IMPORTADO'!A:B,2,0) -> 5.976 | E8: =+(D8*$G$7)*1.21 -> 0
A9: K-C0058-0 | C9: ARBOL DE LEVA SMASH LARGO C/DESCOMPRESOR | D9: =+VLOOKUP(A9,'LISTA IMPORTADO'!A:B,2,0) -> 6.02 | E9: =+(D9*$G$7)*1.21 -> 0
A10: K-C0059-0 | C10: ARBOL DE LEVA HONDA WAVE S 110 | D10: =+VLOOKUP(A10,'LISTA IMPORTADO'!A:B,2,0) -> 13.842 | E10: =+(D10*$G$7)*1.21 -> 0
A11: K-C0060-0 | C11: ARBOL DE LEVA HONDA BIZ / WAVE S/DESCOMP | D11: =+VLOOKUP(A11,'LISTA IMPORTADO'!A:B,2,0) -> 8.127 | E11: =+(D11*$G$7)*1.21 -> 0
A12: K-C0061-0 | C12: ARBOL DE LEVA TODAY / RX 150 | D12: =+VLOOKUP(A12,'LISTA IMPORTADO'!A:B,2,0) -> 10.174 | E12: =+(D12*$G$7)*1.21 -> 0
A13: K-C0062-0 | C13: ARBOL DE LEVA HONDA TITAN 2000 | D13: =+VLOOKUP(A13,'LISTA IMPORTADO'!A:B,2,0) -> 19.528 | E13: =+(D13*$G$7)*1.21 -> 0
A14: K-C0063-0 | C14: ARBOL DE LEVA HONDA TORNADO ADMISION | D14: =+VLOOKUP(A14,'LISTA IMPORTADO'!A:B,2,0) -> 19.35 | E14: =+(D14*$G$7)*1.21 -> 0
A15: K-C0064-0 | C15: ARBOL DE LEVA HONDA TORNADO ESCAPE | D15: =+VLOOKUP(A15,'LISTA IMPORTADO'!A:B,2,0) -> 19.35 | E15: =+(D15*$G$7)*1.21 -> 0
A16: K-C0065-0 | C16: ARBOL DE LEVA TITAN 150 | D16: =+VLOOKUP(A16,'LISTA IMPORTADO'!A:B,2,0) -> 11.538 | E16: =+(D16*$G$7)*1.21 -> 0
C17: ARCO POSAPIE
A18: K-C0121-1 | C18: ARCO POSAPIE SMASH/ TRIP/ Vs 110 | D18: =+VLOOKUP(A18,'LISTA IMPORTADO'!A:B,2,0) -> 9.421 | E18: =+(D18*$G$7)*1.21 -> 0
A19: K-C0122-0 | C19: ARCO POSAPIE MOTOMEL S2/ HONDA CG 150 | D19: =+VLOOKUP(A19,'LISTA IMPORTADO'!A:B,2,0) -> 18.283 | E19: =+(D19*$G$7)*1.21 -> 0
A20: K-C0132-0 | C20: ARCO POSAPIE HONDA WAVE S 110 | D20: =+VLOOKUP(A20,'LISTA IMPORTADO'!A:B,2,0) -> 14.69 | E20: =+(D20*$G$7)*1.21 -> 0
C21: ACRILICOS
A22: K-C0860-0 | C22: ACRÍLICO TABLERO GILERA SMASH - GUERRERO TRIP | D22: =+VLOOKUP(A22,'LISTA IMPORTADO'!A:B,2,0) -> 2.703 | E22: =+(D22*$G$7)*1.21 -> 0
A23: K-C0861-0 | C23: ACRÍLICO TABLERO HONDA WAVE | D23: =+VLOOKUP(A23,'LISTA IMPORTADO'!A:B,2,0) -> 2.555 | E23: =+(D23*$G$7)*1.21 -> 0
A24: K-C0862-0 | C24: ACRÍLICO TABLERO HONDA BIZ 125 | D24: =+VLOOKUP(A24,'LISTA IMPORTADO'!A:B,2,0) -> 2.462 | E24: =+(D24*$G$7)*1.21 -> 0
A25: K-C0862-1 | C25: ACRILICO TABLERO HONDA BIZ 125 CON DISCO | D25: =+VLOOKUP(A25,'LISTA IMPORTADO'!A:B,2,0) -> 3.091 | E25: =+(D25*$G$7)*1.21 -> 0
A26: K-C0863-0 | C26: ACRILICO TABLERO YAMAHA NEW CRYPTON | D26: =+VLOOKUP(A26,'LISTA IMPORTADO'!A:B,2,0) -> 3.789 | E26: =+(D26*$G$7)*1.21 -> 0
A27: K-C0864-0 | C27: ACRÍLICO TABLERO HONDA WAVE S 110 | D27: =+VLOOKUP(A27,'LISTA IMPORTADO'!A:B,2,0) -> 2.197 | E27: =+(D27*$G$7)*1.21 -> 0
C28: ACOPLE CARBURADOR A FILTRO
A29: K-CS001-0 | C29: ACOPLE CARBURADOR FILTRO DAX / DEI | D29: =+VLOOKUP(A29,'LISTA IMPORTADO'!A:B,2,0) -> 2.101 | E29: =+(D29*$G$7)*1.21 -> 0
C30: BALANCINES
A31: K-C0070-0 | C31: BALANCINES 110cc VARIAS X JGO | D31: =+VLOOKUP(A31,'LISTA IMPORTADO'!A:B,2,0) -> 3.257 | E31: =+(D31*$G$7)*1.21 -> 0
A32: K-C0071-0 | C32: BALANCINES HONDA WAVE S 110 X JGO | D32: =+VLOOKUP(A32,'LISTA IMPORTADO'!A:B,2,0) -> 19.704 | E32: =+(D32*$G$7)*1.21 -> 0
A33: K-C0074-0 | C33: BALANCINES YAMAHA YBR 125/ CRYPTON | D33: =+VLOOKUP(A33,'LISTA IMPORTADO'!A:B,2,0) -> 3.257 | E33: =+(D33*$G$7)*1.21 -> 0
A34: K-C0072-0 | C34: BALANCINES ZANELLA RX 150 SUPERIOR X SET | D34: =+VLOOKUP(A34,'LISTA IMPORTADO'!A:B,2,0) -> 16.663 | E34: =+(D34*$G$7)*1.21 -> 0
